BEGIN:VCALENDAR
VERSION:2.0
PRODID:-//Institute of Advanced Technology (IAT) - ECPv6.11.0.1//NONSGML v1.0//EN
CALSCALE:GREGORIAN
METHOD:PUBLISH
X-ORIGINAL-URL:https://www.iat.ac.ke
X-WR-CALDESC:Events for Institute of Advanced Technology (IAT)
REFRESH-INTERVAL;VALUE=DURATION:PT1H
X-Robots-Tag:noindex
X-PUBLISHED-TTL:PT1H
BEGIN:VTIMEZONE
TZID:Africa/Nairobi
BEGIN:STANDARD
TZOFFSETFROM:+0300
TZOFFSETTO:+0300
TZNAME:EAT
DTSTART:20260101T000000
END:STANDARD
END:VTIMEZONE
BEGIN:VEVENT
DTSTART;TZID=Africa/Nairobi:20260309T063000
DTEND;TZID=Africa/Nairobi:20260309T190000
DTSTAMP:20260422T001530
CREATED:20260223T080607Z
LAST-MODIFIED:20260223T080607Z
UID:10000093-1773037800-1773082800@www.iat.ac.ke
SUMMARY:Early Morning Classes Starting 09.03.2026
DESCRIPTION:09/03/2026\nMarch\n2026\n6:30-8:30am\nWeb Design\n3 months\nPhysical/Online\n\n\n09/03/2026\nMarch\n2026\n6:30-8:30am\nSoftware Engineering\n6 Months\nPhysical/Online\n\n\n09/03/2026\nMarch\n2026\n6:30-8:30am\nDigital Marketing\n3 Weeks\nPhysical/Online\n\n\n09/03/2026\nMarch\n2026\n6:30-8:30am\nDat Science\n2 Months\nPhysical/Online\n\n\n09/03/2026\nMarch\n2026\n6:30-8:30am\nCisco Certified Network Professional(CCNP)\n2 months\nPhysical/Online\n\n\n09/03/2026\nMarch\n2026\n6:30-8:30am\nCertified Ethical Hacking(CEH)\n1 Month\nPhysical/Online\n\n\n09/03/2026\nMarch\n2026\n6:30-8:30am\nCompTIA Server+\n1.5 Months\nPhysical/Online
URL:https://www.iat.ac.ke/class/early-morning-classes-starting-09-03-2026/
LOCATION:Nairobi CBD Campus\, Hazina Towers\, 1st Floor\, Monrovia Street\, off Utalii Lane- Next to View Park Towers\, Nairobi\, Kenya
CATEGORIES:Early Morning(Early Bird) Classes
END:VEVENT
BEGIN:VEVENT
DTSTART;TZID=Africa/Nairobi:20260309T080000
DTEND;TZID=Africa/Nairobi:20260309T193000
DTSTAMP:20260422T001530
CREATED:20260223T070631Z
LAST-MODIFIED:20260223T070631Z
UID:10000089-1773043200-1773084600@www.iat.ac.ke
SUMMARY:Regular Classes Starting 09.03.2026
DESCRIPTION:09/03/2026\nMarch\n2026\n12:30-2:30pm\nSoftware Engineering\n6 Months\nPhysical\n\n\n09/03/2026\nMarch\n2026\n2:30-4:30pm\nDigital Marketing\n3 Weeks\nPhysical\n\n\n09/03/2026\nMarch\n2026\n5:30-7:30pm\nCisco Certified Network Professional(CCNP)\n2 months\nPhysical\n\n\n09/03/2026\nMarch\n2026\n5:30-7:30pm\nCertified Ethical Hacking(CEH)\n1 Month\nPhysical\n\n\n09/03/2026\nMarch\n2026\n5:30-7:30pm\nCompTIA Server+\n1.5 Months\nPhysical
URL:https://www.iat.ac.ke/class/regular-classes-starting-09-03-2026/
LOCATION:Nairobi CBD Campus\, Hazina Towers\, 1st Floor\, Monrovia Street\, off Utalii Lane- Next to View Park Towers\, Nairobi\, Kenya
CATEGORIES:Regular-All Branches
END:VEVENT
BEGIN:VEVENT
DTSTART;TZID=Africa/Nairobi:20260309T173000
DTEND;TZID=Africa/Nairobi:20260309T173000
DTSTAMP:20260422T001530
CREATED:20260223T084504Z
LAST-MODIFIED:20260223T084504Z
UID:10000097-1773077400-1773077400@www.iat.ac.ke
SUMMARY:Online Classes Starting 09.03.2026
DESCRIPTION:03/09/2026\nMarch\n2026\n8:30am-10:30am\nWeb Design\n3 months\nOnline\n\n\n03/09/2026\nMarch\n2026\n10:30am-12:30pm\nICDL\n3 Months\nOnline\n\n\n03/09/2026\nMarch\n2026\n12:30-2:30pm\nSoftware Engineering-Level I\n3 Months\nOnline\n\n\n03/09/2026\nMarch\n2026\n2:30-4:30pm\nDigital Marketing\n3 Weeks\nOnline\n\n\n03/09/2026\nMarch\n2026\n5:30-7:30pm\nSTATA\n3 Weeks\nOnline\n\n\n03/09/2026\nMarch\n2026\n5:30-7:30pm\nCisco Certified Network Associate(CCNA)\n2 months\nOnline\n\n\n03/09/2026\nMarch\n2026\n5:30-7:30pm\nCertified Ethical Hacking(CEH)\n1 Month\nOnline\n\n\n03/09/2026\nMarch\n2026\n5:30-7:30pm\nData Science-Level III\n6 Weeks\nOnline
URL:https://www.iat.ac.ke/class/online-classes-starting-09-03-2026/
CATEGORIES:Online Classes-All Branches
END:VEVENT
BEGIN:VEVENT
DTSTART;TZID=Africa/Nairobi:20260314T090000
DTEND;TZID=Africa/Nairobi:20260314T130000
DTSTAMP:20260422T001530
CREATED:20260223T092354Z
LAST-MODIFIED:20260312T070611Z
UID:10000101-1773478800-1773493200@www.iat.ac.ke
SUMMARY:Saturday Only Classes Starting 14.03.2026
DESCRIPTION:14/03/2026\nMarch\n2026\n9:00am-1:00pm\nGraphic Design\n3 Months\nPhysical\n\n\n14/03/2026\nMarch\n2026\n9:00am-1:00pm\nMs.Outlook\n1 Month\nPhysical\n\n\n14/03/2026\nMarch\n2026\n9:00am-1:00pm\nMs.Outlook Teams\n1 Month\nPhysical\n\n\n14/03/2026\nMarch\n2026\n9:00am-1:00pm\nCyber Security\n1.5 Months\nPhysical\n\n\n14/03/2026\nMarch\n2026\n9:00am-1:00pm\nCompTIA Cloud+\n1.5 Months\nPhysical
URL:https://www.iat.ac.ke/class/saturday-only-classes-starting-14-03-2026/
LOCATION:Nairobi CBD Campus\, Hazina Towers\, 1st Floor\, Monrovia Street\, off Utalii Lane- Next to View Park Towers\, Nairobi\, Kenya
CATEGORIES:Saturday Only Classes
END:VEVENT
END:VCALENDAR