BEGIN:VCALENDAR
VERSION:2.0
PRODID:-//Institute of Advanced Technology (IAT) - ECPv6.11.0.1//NONSGML v1.0//EN
CALSCALE:GREGORIAN
METHOD:PUBLISH
X-ORIGINAL-URL:https://www.iat.ac.ke
X-WR-CALDESC:Events for Institute of Advanced Technology (IAT)
REFRESH-INTERVAL;VALUE=DURATION:PT1H
X-Robots-Tag:noindex
X-PUBLISHED-TTL:PT1H
BEGIN:VTIMEZONE
TZID:Africa/Nairobi
BEGIN:STANDARD
TZOFFSETFROM:+0300
TZOFFSETTO:+0300
TZNAME:EAT
DTSTART:20260101T000000
END:STANDARD
END:VTIMEZONE
BEGIN:VEVENT
DTSTART;TZID=Africa/Nairobi:20260302T063000
DTEND;TZID=Africa/Nairobi:20260302T190000
DTSTAMP:20260422T013828
CREATED:20260223T075446Z
LAST-MODIFIED:20260223T075446Z
UID:10000092-1772433000-1772478000@www.iat.ac.ke
SUMMARY:Early Morning Classes Starting 02.03.2026
DESCRIPTION:02/03/2026\nMarch\n2026\n6:30-8:30am\nICDL\n3 Months\nPhysical/Online\n\n\n02/03/2026\nMarch\n2026\n6:30-8:30am\nPython Programing (Basic Level)\n6 weeks\nPhysical/Online\n\n\n02/03/2026\nMarch\n2026\n6:30-8:30am\nGraphic Design\n3 Months\nPhysical/Online\n\n\n02/03/2026\nMarch\n2026\n6:30-8:30am\nCompTIA A+\n6 weeks\nPhysical/Online\n\n\n02/03/2026\nMarch\n2026\n6:30-8:30am\nUI/UX\n1.5 Months\nPhysical/Online\n\n\n02/03/2026\nMarch\n2026\n6:30-8:30am\nExcel to Power BI\n1.5 Months\nPhysical/Online\n\n\n02/03/2026\nMarch\n2026\n6:30-8:30am\nVideo Editing\n3 Months\nPhysical/Online\n\n\n02/03/2026\nMarch\n2026\n6:30-8:30am\nR-Programming\n1 Month\nPhysical/Online\n\n\n02/03/2026\nMarch\n2026\n6:30-8:30am\nCCTV Technology\n2 Months\nPhysical/Online\n\n\n02/03/2026\nMarch\n2026\n6:30-8:30am\nCisco Certified Network Professional(CCNP)\n3 Months\nPhysical/Online\n\n\n02/03/2026\nMarch\n2026\n6:30-8:30am\nCompTIA  Security+\n1.5 Months\nPhysical/Online\n\n\n02/03/2026\nMarch\n2026\n6:30-8:30am\nITIL Foundation\n1.5 Months\nPhysical/Online\n\n\n02/03/2026\nMarch\n2026\n6:30-8:30am\nQuickbooks\n3 Weeks\nPhysical/Online\n\n\n02/03/2026\nMarch\n2026\n6:30-8:30am\nCompTIA Linux\n1.5 Months\nPhysical/Online\n\n\n02/03/2026\nMarch\n2026\n6:30-8:30am\nCompTIA Data+\n2 Months\nPhysical/Online\n\n\n02/03/2026\nMarch\n2026\n6:30-8:30am\nCompTIA Cloud Essentials\n1.5 Months\nPhysical/Online\n\n\n02/03/2026\nMarch\n2026\n6:30-8:30am\nFibre Optics\n2 Months\nPhysical/Online
URL:https://www.iat.ac.ke/class/early-morning-classes-starting-02-03-2026/
LOCATION:Nairobi CBD Campus\, Hazina Towers\, 1st Floor\, Monrovia Street\, off Utalii Lane- Next to View Park Towers\, Nairobi\, Kenya
CATEGORIES:Early Morning(Early Bird) Classes
END:VEVENT
BEGIN:VEVENT
DTSTART;TZID=Africa/Nairobi:20260302T173000
DTEND;TZID=Africa/Nairobi:20260302T173000
DTSTAMP:20260422T013828
CREATED:20260223T083618Z
LAST-MODIFIED:20260223T083618Z
UID:10000096-1772472600-1772472600@www.iat.ac.ke
SUMMARY:Online Classes Starting 02.03.2026
DESCRIPTION:02/03/2026\nMarch\n2026\n12:30-2:30pm\nICDL\n3 Months\nOnline\n\n\n02/03/2026\nMarch\n2026\n2:30-4:30pm\nPython-Basic\n1 Month\nOnline\n\n\n02/03/2026\nMarch\n2026\n2:30-4:30pm\nCCTV Technology\n2 Months\nOnline\n\n\n02/03/2026\nMarch\n2026\n5:30-7:30pm\nCyber Security\n1 Month\nOnline\n\n\n02/03/2026\nMarch\n2026\n5:30-7:30pm\nExcel to Power BI\n1.5 Months\nOnline\n\n\n02/03/2026\nMarch\n2026\n5:30-7:30pm\nQuickBooks\n3 Weeks\nOnline
URL:https://www.iat.ac.ke/class/online-classes-starting-02-03-2026/
CATEGORIES:Online Classes-All Branches
END:VEVENT
BEGIN:VEVENT
DTSTART;TZID=Africa/Nairobi:20260307T090000
DTEND;TZID=Africa/Nairobi:20260307T130000
DTSTAMP:20260422T013828
CREATED:20260223T091747Z
LAST-MODIFIED:20260223T092014Z
UID:10000100-1772874000-1772888400@www.iat.ac.ke
SUMMARY:Saturday Only Classes Starting 07.03.2026
DESCRIPTION:07/03/2026\nMarch\n2026\n9:00am-1:00pm\nCompTIA A+\n2 Months\nPhysical\n\n\n\n07/03/2026\nMarch\n2026\n9:00am-1:00pm\nCisco Certified Network Professional(CCNP)\n2.5 Months\nPhysical\n\n\n\n07/03/2026\nMarch\n2026\n9:00am-1:00pm\nWeb Design-Level III\n1 Month\nPhysical\n\n\n\n07/03/2026\nMarch\n2026\n9:00am-1:00pm\nSoftware Engineering\n3 Months\nPhysical\n\n\n\n07/03/2026\nMarch\n2026\n9:00am-1:00pm\nAdvanced Excel\n3 Weeks\nPhysical\n\n\n\n07/03/2026\nMarch\n2026\n9:00am-1:00pm\nComPTIA N+\n1 Month\nPhysical\n\n\n\n07/03/2026\nMarch\n2026\n9:00am-1:00pm\nQuickbooks\n1 Month\nPhysical\n\n\n\n07/03/2026\nMarch\n2026\n9:00am-1:00pm\nData Science-Level III\n1 Month\nPhysical
URL:https://www.iat.ac.ke/class/saturday-only-classes-starting-07-03-2026/
LOCATION:Nairobi CBD Campus\, Hazina Towers\, 1st Floor\, Monrovia Street\, off Utalii Lane- Next to View Park Towers\, Nairobi\, Kenya
CATEGORIES:Saturday Only Classes
END:VEVENT
END:VCALENDAR