BEGIN:VCALENDAR
VERSION:2.0
PRODID:-//Institute of Advanced Technology (IAT) - ECPv6.11.0.1//NONSGML v1.0//EN
CALSCALE:GREGORIAN
METHOD:PUBLISH
X-ORIGINAL-URL:https://www.iat.ac.ke
X-WR-CALDESC:Events for Institute of Advanced Technology (IAT)
REFRESH-INTERVAL;VALUE=DURATION:PT1H
X-Robots-Tag:noindex
X-PUBLISHED-TTL:PT1H
BEGIN:VTIMEZONE
TZID:Africa/Nairobi
BEGIN:STANDARD
TZOFFSETFROM:+0300
TZOFFSETTO:+0300
TZNAME:EAT
DTSTART:20260101T000000
END:STANDARD
END:VTIMEZONE
BEGIN:VEVENT
DTSTART;TZID=Africa/Nairobi:20260223T080000
DTEND;TZID=Africa/Nairobi:20260223T080000
DTSTAMP:20260422T030214
CREATED:20260209T095050Z
LAST-MODIFIED:20260209T095050Z
UID:10000082-1771833600-1771833600@www.iat.ac.ke
SUMMARY:Regular Classes Starting 23.02.2026
DESCRIPTION:23/02/2026\nFebruary\n2026\n12:30-2:30pm\nICDL\n3 months\nPhysical\n\n\n23/02/2026\nFebruary\n2026\n2:30-4:30pm\nCompTIA Security+\n1 Month\nPhysical\n\n\n23/02/2026\nFebruary\n2026\n2:30-4:30pm\nCertified Computer Programming\n1.5 Months\nPhysical\n\n\n23/02/2026\nFebruary\n2026\n2:30-4:30pm\nCCTV Technology\n2 Months\nPhysical\n\n\n23/02/2026\nFebruary\n2026\n2:30-4:30pm\nExcel to Power BI\n1.5 Months\nPhysical\n\n\n23/02/2026\nFebruary\n2026\n2:30-4:30pm\nR-Programming\n1 Month\nPhysical\n\n\n23/02/2026\nFebruary\n2026\n5:30-7:30pm\nSPSS\n3 weeks\nPhysical\n\n\n23/02/2026\nFebruary\n2026\n5:30-7:30pm\nCyber Security\n1 month\nPhysical\n\n\n23/02/2026\nFebruary\n2026\n5:30-7:30pm\nFibre Optics\n1 Month\nPhysical\n\n\n23/02/2026\nFebruary\n2026\n5:30-7:30pm\nCompTIA CySA+\n1.5 Months\nPhysical\n\n\n23/02/2026\nFebruary\n2026\n5:30-7:30pm\nCompTIA DataSYS+\n2 Months\nPhysical\n\n\n23/02/2026\nFebruary\n2026\n5:30-7:30pm\nCompTIA Cloud Essentials\n1.5 Months\nPhysical\n\n\n23/02/2026\nFebruary\n2026\n5:30-7:30pm\nArchiCAD\n3 Weeks\nPhysical\n\n\n23/02/2026\nFebruary\n2026\n5:30-7:30pm\nAutoCAD\n3 Weeks\nPhysical
URL:https://www.iat.ac.ke/class/regular-classes-starting-23-02-2026/
LOCATION:Nairobi CBD Campus\, Hazina Towers\, 1st Floor\, Monrovia Street\, off Utalii Lane- Next to View Park Towers\, Nairobi\, Kenya
CATEGORIES:Regular-All Branches
END:VEVENT
BEGIN:VEVENT
DTSTART;TZID=Africa/Nairobi:20260223T173000
DTEND;TZID=Africa/Nairobi:20260223T173000
DTSTAMP:20260422T030214
CREATED:20260209T102538Z
LAST-MODIFIED:20260209T102538Z
UID:10000086-1771867800-1771867800@www.iat.ac.ke
SUMMARY:Online Classes Starting 23.02.2026
DESCRIPTION:23/02/2026\nFebruary\n2026\n12:30-2:30pm\nICDL\n3 Months\n\n\n23/02/2026\nFebruary\n2026\n2:30-4:30pm\nCertificate in Computer Programming(CCP)\n3 Months\n\n\n23/02/2026\nFebruary\n2026\n2:30-4:30pm\nCCTV Technology\n2 Months\n\n\n23/02/2026\nFebruary\n2026\n5:30-7:30pm\nSPSS\n3 weeks\n\n\n23/02/2026\nFebruary\n2026\n5:30-7:30pm\nCyber Security\n1 month\n\n\n23/02/2026\nFebruary\n2026\n5:30-7:30pm\nArchICAD\n3 Weeks\n\n\n23/02/2026\nFebruary\n2026\n5:30-7:30pm\nAutoCAD\n3 Weeks
URL:https://www.iat.ac.ke/class/online-classes-starting-23-02-2026/
CATEGORIES:Online Classes-All Branches
END:VEVENT
BEGIN:VEVENT
DTSTART;TZID=Africa/Nairobi:20260228T090000
DTEND;TZID=Africa/Nairobi:20260228T130000
DTSTAMP:20260422T030214
CREATED:20260209T104312Z
LAST-MODIFIED:20260209T104312Z
UID:10000088-1772269200-1772283600@www.iat.ac.ke
SUMMARY:Saturday Only Classes Starting 28.02.2026
DESCRIPTION:28/02/2026\nFebruary\n2026\n9:00am-1:00pm\nICDL\n3 Months\nPhysical\n\n\n28/02/2026\nFebruary\n2026\n9:00am-1:00pm\nAdvanced Excel\n6 Weeks\nPhysical\n\n\n28/02/2026\nFebruary\n2026\n9:00am-1:00pm\nSoftware Engineering\n3 Months\nPhysical\n\n\n28/02/2026\nFebruary\n2026\n9:00am-1:00pm\nExcel to Power BI\n1.5 Months\nPhysical\n\n\n28/02/2026\nFebruary\n2026\n9:00am-1:00pm\nR-Programming\n1 Month\nPhysical\n\n\n28/02/2026\nFebruary\n2026\n9:00am-1:00pm\nCCTV Technology\n2 Months\nPhysical\n\n\n28/02/2026\nFebruary\n2026\n9:00am-1:00pm\nCompTIA Linux+\n1.5 Months\nPhysical\n\n\n28/02/2026\nFebruary\n2026\n9:00am-1:00pm\nCompTIA Linux+\n1.5 Months\nPhysical\n\n\n28/02/2026\nFebruary\n2026\n9:00am-1:00pm\nCompTIA PenTest+\n1.5 Months\nPhysical\n\n\n28/02/2026\nFebruary\n2026\n9:00am-1:00pm\nCompTIA CySA+\n1.5 Months\nPhysical\n\n\n28/02/2026\nFebruary\n2026\n9:00am-1:00pm\nComPTIA Data+\n1.5 Months\nPhysical\n\n\n28/02/2026\nFebruary\n2026\n9:00am-1:00pm\nCompTIA DataSys+\n1.5 Months\nPhysical\n\n\n28/02/2026\nFebruary\n2026\n9:00am-1:00pm\nPython(Basic)\n1.5 Months\nPhysical
URL:https://www.iat.ac.ke/class/saturday-only-classes-starting-28-02-2026/
LOCATION:Nairobi CBD Campus\, Hazina Towers\, 1st Floor\, Monrovia Street\, off Utalii Lane- Next to View Park Towers\, Nairobi\, Kenya
CATEGORIES:Saturday Only Classes
END:VEVENT
END:VCALENDAR