BEGIN:VCALENDAR
VERSION:2.0
PRODID:-//Institute of Advanced Technology (IAT) - ECPv6.11.0.1//NONSGML v1.0//EN
CALSCALE:GREGORIAN
METHOD:PUBLISH
X-WR-CALNAME:Institute of Advanced Technology (IAT)
X-ORIGINAL-URL:https://www.iat.ac.ke
X-WR-CALDESC:Events for Institute of Advanced Technology (IAT)
REFRESH-INTERVAL;VALUE=DURATION:PT1H
X-Robots-Tag:noindex
X-PUBLISHED-TTL:PT1H
BEGIN:VTIMEZONE
TZID:Africa/Nairobi
BEGIN:STANDARD
TZOFFSETFROM:+0300
TZOFFSETTO:+0300
TZNAME:EAT
DTSTART:20250101T000000
END:STANDARD
END:VTIMEZONE
BEGIN:VEVENT
DTSTART;TZID=Africa/Nairobi:20250929T063000
DTEND;TZID=Africa/Nairobi:20250929T063000
DTSTAMP:20260423T093954
CREATED:20250829T085255Z
LAST-MODIFIED:20250829T085255Z
UID:10000072-1759127400-1759127400@www.iat.ac.ke
SUMMARY:Early Morning Classes Starting 29.09.2025
DESCRIPTION:29/09/2025\nSeptember\n2025\n6:30-8:30am\nICDL\n3 months\n\n\n29/09/2025\nSeptember\n2025\n6:30-8:30am\nCompTIA Security+\n1 Month\n\n\n29/09/2025\nSeptember\n2025\n6:30-8:30am\nSPSS\n3 weeks\n\n\n29/09/2025\nSeptember\n2025\n6:30-8:30am\nCertified Computer Programming\n1.5 Months\n\n\n29/09/2025\nSeptember\n2025\n6:30-8:30am\nR-Programming\n1 Month\n\n\n29/09/2025\nSeptember\n2025\n6:30-8:30am\nCyber Security\n1 month\n\n\n29/09/2025\nSeptember\n2025\n6:30-8:30am\nCompTIA CySA+\n1.5 Months\n\n\n29/09/2025\nSeptember\n2025\n6:30-8:30am\nCompTIA DataSYS+\n2 Months\n\n\n29/09/2025\nSeptember\n2025\n6:30-8:30am\nExcel to Power BI\n1.5 Months\n\n\n29/09/2025\nSeptember\n2025\n6:30-8:30am\nArchiCAD\n3 Weeks\n\n\n29/09/2025\nSeptember\n2025\n6:30-8:30am\nAutoCAD\n3 Weeks
URL:https://www.iat.ac.ke/class/early-morning-classes-starting-29-09-2025/
LOCATION:Nairobi CBD Campus\, Hazina Towers\, 1st Floor\, Monrovia Street\, off Utalii Lane- Next to View Park Towers\, Nairobi\, Kenya
CATEGORIES:Early Morning(Early Bird) Classes
END:VEVENT
BEGIN:VEVENT
DTSTART;TZID=Africa/Nairobi:20250929T080000
DTEND;TZID=Africa/Nairobi:20250929T080000
DTSTAMP:20260423T093954
CREATED:20250829T082716Z
LAST-MODIFIED:20250829T082716Z
UID:10000064-1759132800-1759132800@www.iat.ac.ke
SUMMARY:Regular Classes Starting 29.09.2025
DESCRIPTION:29/9/2025\nSeptember\n2025\n12:30-2:30pm\nICDL\n3 months\n\n\n29/09/.2025\nSeptember\n2025\n2:30-4:30pm\nCompTIA Security+\n1 Month\n\n\n29/9/2026\nSeptember\n2025\n2:30-4:30pm\nCertified Computer Programming\n1.5 Months\n\n\n29/09/.2026\nSeptember\n2025\n2:30-4:30pm\nCCTV Technology\n2 Months\n\n\n29/9/2027\nSeptember\n2025\n2:30-4:30pm\nExcel to Power BI\n1.5 Months\n\n\n29/09/.2027\nSeptember\n2025\n2:30-4:30pm\nR-Programming\n1 Month\n\n\n29/9/2028\nSeptember\n2025\n5:30-7:30pm\nSPSS\n3 weeks\n\n\n29/09/.2028\nSeptember\n2025\n5:30-7:30pm\nCyber Security\n1 month\n\n\n29/9/2029\nSeptember\n2025\n5:30-7:30pm\nFibre Optics\n1 Month\n\n\n29/09/.2029\nSeptember\n2025\n5:30-7:30pm\nCompTIA CySA+\n1.5 Months\n\n\n29/9/2030\nSeptember\n2025\n5:30-7:30pm\nCompTIA DataSYS+\n2 Months\n\n\n29/09/.2030\nSeptember\n2025\n5:30-7:30pm\nCompTIA Cloud Essentials\n1.5 Months\n\n\n29/9/2031\nSeptember\n2025\n5:30-7:30pm\nArchiCAD\n3 Weeks\n\n\n29/09/.2031\nSeptember\n2025\n5:30-7:30pm\nAutoCAD\n3 Weeks
URL:https://www.iat.ac.ke/class/regular-classes-starting-29-09-2025/
LOCATION:Nairobi CBD Campus\, Hazina Towers\, 1st Floor\, Monrovia Street\, off Utalii Lane- Next to View Park Towers\, Nairobi\, Kenya
CATEGORIES:Regular-All Branches
END:VEVENT
BEGIN:VEVENT
DTSTART;TZID=Africa/Nairobi:20250929T173000
DTEND;TZID=Africa/Nairobi:20250929T173000
DTSTAMP:20260423T093954
CREATED:20250829T083240Z
LAST-MODIFIED:20250829T083240Z
UID:10000066-1759167000-1759167000@www.iat.ac.ke
SUMMARY:Online Classes Starting 29.09.2025
DESCRIPTION:29/09/2025\nSeptember\n2025\n12:30-2:30pm\nICDL\n3 Months\n\n\n29/09/2025\nSeptember\n2025\n2:30-4:30pm\nCertificate in Computer Programming(CCP)\n3 Months\n\n\n29/09/2025\nSeptember\n2025\n2:30-4:30pm\nCCTV Technology\n2 Months\n\n\n29/09/2025\nSeptember\n2025\n5:30-7:30pm\nSPSS\n3 weeks\n\n\n29/09/2025\nSeptember\n2025\n5:30-7:30pm\nCyber Security\n1 month\n\n\n29/09/2025\nSeptember\n2025\n5:30-7:30pm\nArchICAD\n3 Weeks\n\n\n29/09/2025\nSeptember\n2025\n5:30-7:30pm\nAutoCAD\n3 Weeks
URL:https://www.iat.ac.ke/class/online-classes-starting-29-09-2025/
CATEGORIES:Online Classes-All Branches
END:VEVENT
END:VCALENDAR