BEGIN:VCALENDAR
VERSION:2.0
PRODID:-//Institute of Advanced Technology (IAT) - ECPv6.11.0.1//NONSGML v1.0//EN
CALSCALE:GREGORIAN
METHOD:PUBLISH
X-ORIGINAL-URL:https://www.iat.ac.ke
X-WR-CALDESC:Events for Institute of Advanced Technology (IAT)
REFRESH-INTERVAL;VALUE=DURATION:PT1H
X-Robots-Tag:noindex
X-PUBLISHED-TTL:PT1H
BEGIN:VTIMEZONE
TZID:Africa/Nairobi
BEGIN:STANDARD
TZOFFSETFROM:+0300
TZOFFSETTO:+0300
TZNAME:EAT
DTSTART:20250101T000000
END:STANDARD
END:VTIMEZONE
BEGIN:VEVENT
DTSTART;TZID=Africa/Nairobi:20250922T063000
DTEND;TZID=Africa/Nairobi:20250922T063000
DTSTAMP:20260423T104113
CREATED:20250829T085032Z
LAST-MODIFIED:20250829T085032Z
UID:10000071-1758522600-1758522600@www.iat.ac.ke
SUMMARY:Early Morning Classes Starting 22.09.2025
DESCRIPTION:22/09/2025\nSeptember\n2025\n6:30-8:30am\nICDL\n3 months\n\n\n22/09/2025\nSeptember\n2025\n6:30-8:30am\nCompTIA N+\n1 Month\n\n\n22/09/2025\nSeptember\n2025\n6:30-8:30am\nAdvanced Excel\n3 weeks\n\n\n22/09/2025\nSeptember\n2025\n6:30-8:30am\nSTATA\n3 Weeks\n\n\n22/09/2025\nSeptember\n2025\n6:30-8:30am\nProject Management Professional(PMP)\n1 Month\n\n\n22/09/2025\nSeptember\n2025\n6:30-8:30am\nITIL Foundation\n2 Weeks\n\n\n22/09/2025\nSeptember\n2025\n6:30-8:30am\nCompTIA Cloud+\n1.5 Months\n\n\n22/09/2025\nSeptember\n2025\n6:30-8:30am\nCyberSecurity\n1.5 Months
URL:https://www.iat.ac.ke/class/early-morning-classes-starting-22-09-2025/
LOCATION:Nairobi CBD Campus\, Hazina Towers\, 1st Floor\, Monrovia Street\, off Utalii Lane- Next to View Park Towers\, Nairobi\, Kenya
CATEGORIES:Early Morning(Early Bird) Classes
END:VEVENT
BEGIN:VEVENT
DTSTART;TZID=Africa/Nairobi:20250927T090000
DTEND;TZID=Africa/Nairobi:20250927T090000
DTSTAMP:20260423T104113
CREATED:20250829T084127Z
LAST-MODIFIED:20250829T084127Z
UID:10000069-1758963600-1758963600@www.iat.ac.ke
SUMMARY:Saturday Only Classes Starting 27.09.2025
DESCRIPTION:27/09/2025\nSeptember\n2025\n9:00am-1:00pm\nICDL\n3 Months\nPhysical\n\n\n27/09/2025\nSeptember\n2025\n9:00am-1:00pm\nAdvanced Excel\n6 Weeks\nPhysical\n\n\n27/09/2025\nSeptember\n2025\n9:00am-1:00pm\nSoftware Engineering\n3 Months\nPhysical\n\n\n27/09/2025\nSeptember\n2025\n9:00am-1:00pm\nExcel to Power BI\n1.5 Months\nPhysical\n\n\n27/09/2025\nSeptember\n2025\n9:00am-1:00pm\nR-Programming\n1 Month\nPhysical\n\n\n27/09/2025\nSeptember\n2025\n9:00am-1:00pm\nCCTV Technology\n2 Months\nPhysical\n\n\n27/09/2025\nSeptember\n2025\n9:00am-1:00pm\nCompTIA Linux+\n1.5 Months\nPhysical\n\n\n27/09/2025\nSeptember\n2025\n9:00am-1:00pm\nCompTIA Linux+\n1.5 Months\nPhysical\n\n\n27/09/2025\nSeptember\n2025\n9:00am-1:00pm\nCompTIA PenTest+\n1.5 Months\nPhysical\n\n\n27/09/2025\nSeptember\n2025\n9:00am-1:00pm\nCompTIA CySA+\n1.5 Months\nPhysical\n\n\n27/09/2025\nSeptember\n2025\n9:00am-1:00pm\nComPTIA Data+\n1.5 Months\nPhysical\n\n\n27/09/2025\nSeptember\n2025\n9:00am-1:00pm\nCompTIA DataSys+\n1.5 Months\nPhysical\n\n\n27/09/2025\nSeptember\n2025\n9:00am-1:00pm\nPython(Basic)\n1.5 Months\nPhysical
URL:https://www.iat.ac.ke/class/saturday-only-classes-starting-27-09-2025/
LOCATION:Nairobi CBD Campus\, Hazina Towers\, 1st Floor\, Monrovia Street\, off Utalii Lane- Next to View Park Towers\, Nairobi\, Kenya
CATEGORIES:Saturday Only Classes
END:VEVENT
END:VCALENDAR