BEGIN:VCALENDAR
VERSION:2.0
PRODID:-//Institute of Advanced Technology (IAT) - ECPv6.11.0.1//NONSGML v1.0//EN
CALSCALE:GREGORIAN
METHOD:PUBLISH
X-ORIGINAL-URL:https://www.iat.ac.ke
X-WR-CALDESC:Events for Institute of Advanced Technology (IAT)
REFRESH-INTERVAL;VALUE=DURATION:PT1H
X-Robots-Tag:noindex
X-PUBLISHED-TTL:PT1H
BEGIN:VTIMEZONE
TZID:Africa/Nairobi
BEGIN:STANDARD
TZOFFSETFROM:+0300
TZOFFSETTO:+0300
TZNAME:EAT
DTSTART:20250101T000000
END:STANDARD
END:VTIMEZONE
BEGIN:VEVENT
DTSTART;TZID=Africa/Nairobi:20250915T080000
DTEND;TZID=Africa/Nairobi:20250915T080000
DTSTAMP:20260423T122128
CREATED:20250829T082527Z
LAST-MODIFIED:20250829T082527Z
UID:10000063-1757923200-1757923200@www.iat.ac.ke
SUMMARY:Regular Classes Starting 15.09.2025
DESCRIPTION:15/09/2025\nSeptember\n2025\n10:30am-12:30pm\nICDL\n3 months\n\n\n15/09/2025\nSeptember\n2025\n12:30-2:30pm\nCompTIA N+\n1 MONTH\n\n\n15/09/2025\nSeptember\n2025\n5:30-7:30pm\nAdvanced Excel\n3 weeks\n\n\n15/09/2025\nSeptember\n2025\n5:30-7:30pm\nProject Management Professional(PMP)\n1 Month\n\n\n15/09/2025\nSeptember\n2025\n5:30-7:30pm\nITIL Foundation\n2 Weeks\n\n\n15/09/2025\nSeptember\n2025\n5:30-7:30pm\nCompTIA Cloud+\n1.5 Months\n\n\n15/09/2025\nSeptember\n2025\n5:30-7:30pm\nCyberSecurity\n1.5 Months
URL:https://www.iat.ac.ke/class/regular-classes-starting-15-09-2025/
LOCATION:Nairobi CBD Campus\, Hazina Towers\, 1st Floor\, Monrovia Street\, off Utalii Lane- Next to View Park Towers\, Nairobi\, Kenya
CATEGORIES:Regular-All Branches
END:VEVENT
BEGIN:VEVENT
DTSTART;TZID=Africa/Nairobi:20250915T173000
DTEND;TZID=Africa/Nairobi:20250915T173000
DTSTAMP:20260423T122128
CREATED:20250829T083104Z
LAST-MODIFIED:20250829T083104Z
UID:10000065-1757957400-1757957400@www.iat.ac.ke
SUMMARY:Online Classes Starting 15.09.2025
DESCRIPTION:15/09/2025\nSeptember\n2025\n6:30-8:30pm\nACCA-MA: Management Accounting\n3 Months\n\n\n15/09/2025\nSeptember\n2025\n6:30-8:30pm\nACCA-FA: Financial Accounting\n3 Months\n\n\n15/09/2025\nSeptember\n2025\n6:30-8:30pm\nACCA-CL: Corporate & Business Law\n3 Months\n\n\n15/09/2025\nSeptember\n2025\n6:30-8:30pm\nACCA-PM: Performance Management\n3 Months\n\n\n15/09/2025\nSeptember\n2025\n6:30-8:30pm\nACCA-TX: Taxation\n3 Months\n\n\n15/09/2025\nSeptember\n2025\n6:30-8:30pm\nACCA-FR: Financial Reporting\n3 Months\n\n\n15/09/2025\nSeptember\n2025\n6:30-8:30pm\nACCA-AA: Audit & Assurance\n3 Months\n\n\n15/09/2025\nSeptember\n2025\n6:30-8:30pm\nACCA-FM: Financial Management\n3 Months\n\n\n15/09/2025\nSeptember\n2025\n6:30-8:30pm\nACCA-SBR: Strategic Business Reporting\n3 Months\n\n\n15/09/2025\nSeptember\n2025\n6:30-8:30pm\nACCA-SBL: Strategic Business Leader\n3 Months\n\n\n15/09/2025\nSeptember\n2025\n6:30-8:30pm\nACCA-AFM: Advanced Financial Management\n3 Months\n\n\n15/09/2025\nSeptember\n2025\n6:30-8:30pm\nACCA-APM: Advanced Performance Management\n3 Months\n\n\n15/09/2025\nSeptember\n2025\n6:30-8:30pm\nACCA-ATX: Advanced Taxation\n3 Months\n\n\n15/09/2025\nSeptember\n2025\n6:30-8:30pm\nAAA: Advanced Audit & Assurance\n3 Months
URL:https://www.iat.ac.ke/class/online-classes-starting-15-09-2025/
CATEGORIES:Online Classes-All Branches
END:VEVENT
BEGIN:VEVENT
DTSTART;TZID=Africa/Nairobi:20250920T090000
DTEND;TZID=Africa/Nairobi:20250920T090000
DTSTAMP:20260423T122128
CREATED:20250829T083856Z
LAST-MODIFIED:20250829T083856Z
UID:10000068-1758358800-1758358800@www.iat.ac.ke
SUMMARY:Saturday Only Classes Starting 20.09.2025
DESCRIPTION:20/09/2025\nSeptember\n2025\n9:00am-1:00pm\nGraphic Design\n3 Months\nPhysical\n\n\n20/09/2025\nSeptember\n2025\n9:00am-1:00pm\nMs.Outlook\n1 Month\nPhysical\n\n\n20/09/2025\nSeptember\n2025\n9:00am-1:00pm\nMs.Outlook Teams\n1 Month\nPhysical\n\n\n20/09/2025\nSeptember\n2025\n9:00am-1:00pm\nCyber Security\n1.5 Months\nPhysical\n\n\n20/09/2025\nSeptember\n2025\n9:00am-1:00pm\nCompTIA Cloud+\n1.5 Months\nPhysical
URL:https://www.iat.ac.ke/class/saturday-only-classes-starting-20-09-2025/
LOCATION:Nairobi CBD Campus\, Hazina Towers\, 1st Floor\, Monrovia Street\, off Utalii Lane- Next to View Park Towers\, Nairobi\, Kenya
CATEGORIES:Saturday Only Classes
END:VEVENT
END:VCALENDAR