BEGIN:VCALENDAR
VERSION:2.0
PRODID:-//Institute of Advanced Technology (IAT) - ECPv6.11.0.1//NONSGML v1.0//EN
CALSCALE:GREGORIAN
METHOD:PUBLISH
X-WR-CALNAME:Institute of Advanced Technology (IAT)
X-ORIGINAL-URL:https://www.iat.ac.ke
X-WR-CALDESC:Events for Institute of Advanced Technology (IAT)
REFRESH-INTERVAL;VALUE=DURATION:PT1H
X-Robots-Tag:noindex
X-PUBLISHED-TTL:PT1H
BEGIN:VTIMEZONE
TZID:Africa/Nairobi
BEGIN:STANDARD
TZOFFSETFROM:+0300
TZOFFSETTO:+0300
TZNAME:EAT
DTSTART:20250101T000000
END:STANDARD
END:VTIMEZONE
BEGIN:VEVENT
DTSTART;TZID=Africa/Nairobi:20250825T063000
DTEND;TZID=Africa/Nairobi:20250825T063000
DTSTAMP:20260423T175215
CREATED:20250722T081215Z
LAST-MODIFIED:20250722T081215Z
UID:10000050-1756103400-1756103400@www.iat.ac.ke
SUMMARY:Early Morning Classes Starting 25.08.2025
DESCRIPTION:25/08/2025\nAugust\n2025\n6:30-8:30am\nICDL\n3 months\nPhysical/Online\n\n\n25/08/2025\nAugust\n2025\n6:30-8:30am\nCompTIA Security+\n1 Month\nPhysical/Online\n\n\n25/08/2025\nAugust\n2025\n6:30-8:30am\nSPSS\n3 weeks\nPhysical/Online\n\n\n25/08/2025\nAugust\n2025\n6:30-8:30am\nCertified Computer Programming\n1.5 Months\nPhysical/Online\n\n\n25/08/2025\nAugust\n2025\n6:30-8:30am\nR-Programming\n1 Month\nPhysical/Online\n\n\n25/08/2025\nAugust\n2025\n6:30-8:30am\nCyber Security\n1 month\nPhysical/Online\n\n\n25/08/2025\nAugust\n2025\n6:30-8:30am\nCompTIA CySA+\n1.5 Months\nPhysical/Online\n\n\n25/08/2025\nAugust\n2025\n6:30-8:30am\nCompTIA DataSYS+\n2 Months\nPhysical/Online\n\n\n25/08/2025\nAugust\n2025\n6:30-8:30am\nExcel to Power BI\n1.5 Months\nPhysical/Online\n\n\n25/08/2025\nAugust\n2025\n6:30-8:30am\nArchiCAD\n3 Weeks\nPhysical/Online\n\n\n25/08/2025\nAugust\n2025\n6:30-8:30am\nAutoCAD\n3 Weeks\nPhysical/Online
URL:https://www.iat.ac.ke/class/early-morning-classes-starting-25-08-2025/
LOCATION:Nairobi CBD Campus\, Hazina Towers\, 1st Floor\, Monrovia Street\, off Utalii Lane- Next to View Park Towers\, Nairobi\, Kenya
CATEGORIES:Early Morning(Early Bird) Classes
END:VEVENT
BEGIN:VEVENT
DTSTART;TZID=Africa/Nairobi:20250825T173000
DTEND;TZID=Africa/Nairobi:20250825T173000
DTSTAMP:20260423T175215
CREATED:20250722T082227Z
LAST-MODIFIED:20250722T082227Z
UID:10000053-1756143000-1756143000@www.iat.ac.ke
SUMMARY:Online Classes Starting 25.08.2025
DESCRIPTION:25/08/2025\nAugust\n2025\n12:30-2:30pm\nICDL\n3 Months\nOnline\n\n\n\n25/08/2025\nAugust\n2025\n5:30-7:30pm\nSPSS\n3 weeks\nOnline\n\n\n\n25/08/2025\nAugust\n2025\n2:30-4:30pm\nCertificate in Computer Programming\n2 Months\nOnline\n\n\n\n25/08/2025\nAugust\n2025\n5:30-7:30pm\nExcel to Power BI\n1.5 Months\nOnline\n\n\n\n25/08/2025\nAugust\n2025\n5:30-7:30pm\nR-Programming\n1 Month\nOnline\n\n\n\n25/08/2025\nAugust\n2025\n2:30-4:30pm\nCCTV Technology\n2 Months\nOnline\n\n\n\n25/08/2025\nAugust\n2025\n5:30-7:30pm\nCyber Security\n1 month\nOnline\n\n\n\n25/08/2025\nAugust\n2025\n5:30-7:30pm\nArchoCAD\n3 Weeks\nOnline\n\n\n\n25/08/2025\nAugust\n2025\n5:30-7:30pm\nAutoCAD\n3 Weeks\nOnline
URL:https://www.iat.ac.ke/class/online-classes-starting-25-08-2025/
CATEGORIES:Online Classes-All Branches
END:VEVENT
BEGIN:VEVENT
DTSTART;TZID=Africa/Nairobi:20250825T173000
DTEND;TZID=Africa/Nairobi:20250825T173000
DTSTAMP:20260423T175215
CREATED:20250722T085317Z
LAST-MODIFIED:20250722T085317Z
UID:10000060-1756143000-1756143000@www.iat.ac.ke
SUMMARY:Regular Classes Starting 25.08.2025
DESCRIPTION:25/08/2025\nAugust\n2025\n12:30-2:30pm\nICDL\n3 months\nPhysical\n\n\n25/08/2025\nAugust\n2025\n2:30-4:30Ppm\nCompTIA Security+\n1 Month\nPhysical\n\n\n25/08/2025\nAugust\n2025\n5:30-7:30pm\nSPSS\n3 weeks\nPhysical\n\n\n25/08/2025\nAugust\n2025\n2:30-4:30pm\nCertified Computer Programming\n1.5 Months\nPhysical\n\n\n25/08/2025\nAugust\n2025\n5:30-7:30pm\nR-Programming\n1 Month\nPhysical\n\n\n25/08/2025\nAugust\n2025\n5:30-7:30pm\n3D Animation\n1 Month\nPhysical\n\n\n25/08/2025\nAugust\n2025\n5:30-7:30pm\nCyber Security\n1 month\nPhysical\n\n\n25/08/2025\nAugust\n2025\n5:30-7:30pm\nCompTIA CySA+\n1.5 Months\nPhysical\n\n\n25/08/2025\nAugust\n2025\n5:30-7:30pm\nCompTIA DataSYS+\n2 Months\nPhysical\n\n\n25/08/2025\nAugust\n2025\n5:30-7:30pm\nExcel to Power BI\n1.5 Months\nPhysical\n\n\n25/08/2025\nAugust\n2025\n5:30-7:30pm\nArchiCAD\n3 Weeks\nPhysical\n\n\n25/08/2025\nAugust\n2025\n5:30-7:30pm\nAutoCAD\n3 Weeks\nPhysical
URL:https://www.iat.ac.ke/class/regular-classes-starting-25-08-2025/
LOCATION:Nairobi CBD Campus\, Hazina Towers\, 1st Floor\, Monrovia Street\, off Utalii Lane- Next to View Park Towers\, Nairobi\, Kenya
CATEGORIES:Regular-All Branches
END:VEVENT
BEGIN:VEVENT
DTSTART;TZID=Africa/Nairobi:20250830T090000
DTEND;TZID=Africa/Nairobi:20250830T090000
DTSTAMP:20260423T175215
CREATED:20250722T083317Z
LAST-MODIFIED:20250722T083317Z
UID:10000056-1756544400-1756544400@www.iat.ac.ke
SUMMARY:Saturday Only Classes Starting 30.08.2025
DESCRIPTION:30/08/2025\nAugust\n2025\n9:00am-1:00pm\nICDL\n3 Months\nPhysical\nWith 15 minutes breaks\n\n\n30/08/2025\nAugust\n2025\n9:00am-1:00pm\nAdvanced Excel\n6 Weeks\nPhysical\nWith 15 minutes breaks\n\n\n30/08/2025\nAugust\n2025\n9:00am-1:00pm\nSoftware Engineering\n3 Months\nPhysical\nWith 15 minutes breaks\n\n\n30/08/2025\nAugust\n2025\n9:00am-1:00pm\nExcel to Power BI\n1.5 Months\nPhysical\nWith 15 minutes breaks\n\n\n30/08/2025\nAugust\n2025\n9:00am-1:00pm\nCompTIA Linux+\n1.5 Months\nPhysical\nWith 15 minutes breaks\n\n\n30/08/2025\nAugust\n2025\n9:00am-1:00pm\nR-Programming\n1 Month\nPhysical\nWith 15 minutes breaks\n\n\n30/08/2025\nAugust\n2025\n9:00am-1:00pm\nExcel to Power BI\n1.5 Months\nPhysical\nWith 15 minutes breaks\n\n\n30/08/2025\nAugust\n2025\n9:00am-1:00pm\nCompTIA Linux+\n1.5 Months\nPhysical\nWith 15 minutes breaks\n\n\n30/08/2025\nAugust\n2025\n9:00am-1:00pm\nCompTIA PenTest+\n1.5 Months\nPhysical\nWith 15 minutes breaks\n\n\n30/08/2025\nAugust\n2025\n9:00am-1:00pm\nCompTIA CySA+\n1.5 Months\nPhysical\nWith 15 minutes breaks\n\n\n30/08/2025\nAugust\n2025\n9:00am-1:00pm\nComPTIA Data+\n1.5 Months\nPhysical\nWith 15 minutes breaks\n\n\n30/08/2025\nAugust\n2025\n9:00am-1:00pm\nCompTIA DataSys+\n1.5 Months\nPhysical\nWith 15 minutes breaks\n\n\n30/08/2025\nAugust\n2025\n9:00am-1:00pm\nPython(Basic)\n1.5 Months\nPhysical\nWith 15 minutes breaks
URL:https://www.iat.ac.ke/class/saturday-only-classes-starting-30-08-2025/
LOCATION:Nairobi CBD Campus\, Hazina Towers\, 1st Floor\, Monrovia Street\, off Utalii Lane- Next to View Park Towers\, Nairobi\, Kenya
CATEGORIES:Saturday Only Classes
END:VEVENT
END:VCALENDAR