BEGIN:VCALENDAR
VERSION:2.0
PRODID:-//Institute of Advanced Technology (IAT) - ECPv6.11.0.1//NONSGML v1.0//EN
CALSCALE:GREGORIAN
METHOD:PUBLISH
X-ORIGINAL-URL:https://www.iat.ac.ke
X-WR-CALDESC:Events for Institute of Advanced Technology (IAT)
REFRESH-INTERVAL;VALUE=DURATION:PT1H
X-Robots-Tag:noindex
X-PUBLISHED-TTL:PT1H
BEGIN:VTIMEZONE
TZID:Africa/Nairobi
BEGIN:STANDARD
TZOFFSETFROM:+0300
TZOFFSETTO:+0300
TZNAME:EAT
DTSTART:20250101T000000
END:STANDARD
END:VTIMEZONE
BEGIN:VEVENT
DTSTART;TZID=Africa/Nairobi:20250714T080000
DTEND;TZID=Africa/Nairobi:20250714T080000
DTSTAMP:20260425T140013
CREATED:20250704T114312Z
LAST-MODIFIED:20250704T114505Z
UID:10000037-1752480000-1752480000@www.iat.ac.ke
SUMMARY:Regular Classes Starting 14.07.2025
DESCRIPTION:14.07.2025\nJuly\n2025\n10:30am-12:30pm\nInternational Certificate in Digital Literacy(ICDL)\n3 Months\nCBD Branch\nPhysical\n\n\n14.07.2025\nJuly\n2025\n5:30-7:30pm\nAdvanced Excel\n3 Weeks\nCBD Branch\nPhysical\n\n\n14.07.2025\nJuly\n2025\n5:30-7:30pm\nSTATA\n3 Weeks\nCBD Branch\nPhysical
URL:https://www.iat.ac.ke/class/regular-classes-starting-14-07-2025/
LOCATION:Nairobi CBD Campus\, Hazina Towers\, 1st Floor\, Monrovia Street\, off Utalii Lane- Next to View Park Towers\, Nairobi\, Kenya
CATEGORIES:Regular-All Branches
END:VEVENT
BEGIN:VEVENT
DTSTART;TZID=Africa/Nairobi:20250714T173000
DTEND;TZID=Africa/Nairobi:20250714T173000
DTSTAMP:20260425T140013
CREATED:20250704T090152Z
LAST-MODIFIED:20250704T124408Z
UID:10000034-1752514200-1752514200@www.iat.ac.ke
SUMMARY:Online Classes Starting 14.07.2025
DESCRIPTION:14.07.2025\nJuly\n2025\n5:30-7:30pm\nAdvanced Excel\n3 Weeks\nOnline
URL:https://www.iat.ac.ke/class/online-classes-starting-14-07-2025/
CATEGORIES:Online Classes-All Branches
END:VEVENT
BEGIN:VEVENT
DTSTART;TZID=Africa/Nairobi:20250716T080000
DTEND;TZID=Africa/Nairobi:20250716T080000
DTSTAMP:20260425T140013
CREATED:20250714T093356Z
LAST-MODIFIED:20250714T093618Z
UID:10000043-1752652800-1752652800@www.iat.ac.ke
SUMMARY:Regular Classes Starting 16.07.2025
DESCRIPTION:16.07.2025\nJuly\n2025\n8:30-10:30am\nInternational Certificate in Digital Literacy(ICDL)\n3 Months\nMombasa Branch\nPhysical\n\n\n16.07.2025\nJuly\n2025\n4:30-6:30pm\nAutoCAD\n3 Weeks\nMombasa Branch\nPhysical
URL:https://www.iat.ac.ke/class/regular-classes-starting-16-07-2025/
LOCATION:Mombasa Campus\, Biashara Bank Building- Nyerere Avenue\, Ground Floor\, Mombassa\, Kenya
CATEGORIES:Regular-All Branches
END:VEVENT
BEGIN:VEVENT
DTSTART;TZID=Africa/Nairobi:20250717T173000
DTEND;TZID=Africa/Nairobi:20250717T173000
DTSTAMP:20260425T140013
CREATED:20250704T091024Z
LAST-MODIFIED:20250704T091024Z
UID:10000035-1752773400-1752773400@www.iat.ac.ke
SUMMARY:Online Classes Starting 17.07.2025
DESCRIPTION:17.07.2025\nJuly\n2025\n5:30-7:30pm\nQuickbooks\n3 Weeks\nOnline
URL:https://www.iat.ac.ke/class/online-classes-starting-17-07-2025/
CATEGORIES:Online Classes-All Branches
END:VEVENT
BEGIN:VEVENT
DTSTART;TZID=Africa/Nairobi:20250718T080000
DTEND;TZID=Africa/Nairobi:20250718T080000
DTSTAMP:20260425T140013
CREATED:20250714T094344Z
LAST-MODIFIED:20250714T094344Z
UID:10000044-1752825600-1752825600@www.iat.ac.ke
SUMMARY:Regular Classes Starting 18.07.2025
DESCRIPTION:18.07.2025\nJuly\n2025\n10:30-12:30pm\nInternational Certificate in Digital Literacy(ICDL)\n3 Months\nMombasa Branch\nPhysical
URL:https://www.iat.ac.ke/class/regular-classes-starting-18-07-2025/
LOCATION:Mombasa Campus\, Biashara Bank Building- Nyerere Avenue\, Ground Floor\, Mombassa\, Kenya
CATEGORIES:Regular-All Branches
END:VEVENT
END:VCALENDAR