BEGIN:VCALENDAR
VERSION:2.0
PRODID:-//Institute of Advanced Technology (IAT) - ECPv6.11.0.1//NONSGML v1.0//EN
CALSCALE:GREGORIAN
METHOD:PUBLISH
X-WR-CALNAME:Institute of Advanced Technology (IAT)
X-ORIGINAL-URL:https://www.iat.ac.ke
X-WR-CALDESC:Events for Institute of Advanced Technology (IAT)
REFRESH-INTERVAL;VALUE=DURATION:PT1H
X-Robots-Tag:noindex
X-PUBLISHED-TTL:PT1H
BEGIN:VTIMEZONE
TZID:Africa/Nairobi
BEGIN:STANDARD
TZOFFSETFROM:+0300
TZOFFSETTO:+0300
TZNAME:EAT
DTSTART:20250101T000000
END:STANDARD
END:VTIMEZONE
BEGIN:VEVENT
DTSTART;TZID=Africa/Nairobi:20250526T083000
DTEND;TZID=Africa/Nairobi:20250526T083000
DTSTAMP:20260426T005737
CREATED:20250402T085909Z
LAST-MODIFIED:20250402T111610Z
UID:10000026-1748248200-1748248200@www.iat.ac.ke
SUMMARY:Regular Classes Starting 26.05.2025
DESCRIPTION:26.05.2025\nMay\n2025\n8:30-10:30am\nInternational Certificate in Digital Literacy(ICDL)\n3 Months\nCBD Branch\nPhysical\n\n\n26.05.2025\nMay\n2025\n10:30AM-12:30PM\nDigital Marketing\n3 Weeks\nMombasa Branch\nPhysical\n\n\n26.05.2025\nMay\n2025\n12:30-2:30pm\nInternational Certificate in Digital Literacy(ICDL)\n3 Months\nMombasa Branch\nPhysical\n\n\n26.05.2025\nMay\n2025\n12:30-2:30pm\nCompTIA A+\n1.5 Months\nCBD Branch\nPhysical\n\n\n26.05.2025\nMay\n2025\n2:00PM-4:00PM\nGraphic Design\n3 Months\nMombasa Branch\nPhysical\n\n\n26.05.2025\nMay\n2025\n2:30-4:30pm\nWeb Design-Level 1\n1 Month\nBuruburu Buruburu\nPhysical\n\n\n26.05.2025\nMay\n2025\n4:30-6:30pm\nGraphic Design\n2 Months\nBuruburu Branch\nPhysical\n\n\n26.05.2025\nMay\n2025\n4:30PM-6:30PM\nWeb Design-Level 1\n3 months\nMombasa Branch\nPhysical\n\n\n26.05.2025\nMay\n2025\n5:30-7:30 PM\nAdvanced Excel\n3 Weeks\nMombasa Branch\nPhysical
URL:https://www.iat.ac.ke/class/regular-classes-starting-26-05-2025/
LOCATION:Nairobi CBD Campus\, Hazina Towers\, 1st Floor\, Monrovia Street\, off Utalii Lane- Next to View Park Towers\, Nairobi\, Kenya
CATEGORIES:Regular-All Branches
END:VEVENT
BEGIN:VEVENT
DTSTART;TZID=Africa/Nairobi:20250526T083000
DTEND;TZID=Africa/Nairobi:20250526T083000
DTSTAMP:20260426T005737
CREATED:20250402T095750Z
LAST-MODIFIED:20250402T105406Z
UID:10000013-1748248200-1748248200@www.iat.ac.ke
SUMMARY:Cyber Security Essentials
DESCRIPTION:Course Duration: 40Hrs (1 week) \nVenue: IAT Hazina Towers \nDate: 26/5/2025
URL:https://www.iat.ac.ke/class/cyber-security-essentials/
LOCATION:Nairobi CBD Campus\, Hazina Towers\, 1st Floor\, Monrovia Street\, off Utalii Lane- Next to View Park Towers\, Nairobi\, Kenya
CATEGORIES:Corporate Courses
END:VEVENT
END:VCALENDAR