BEGIN:VCALENDAR
VERSION:2.0
PRODID:-//Institute of Advanced Technology (IAT) - ECPv6.11.0.1//NONSGML v1.0//EN
CALSCALE:GREGORIAN
METHOD:PUBLISH
X-WR-CALNAME:Institute of Advanced Technology (IAT)
X-ORIGINAL-URL:https://www.iat.ac.ke
X-WR-CALDESC:Events for Institute of Advanced Technology (IAT)
REFRESH-INTERVAL;VALUE=DURATION:PT1H
X-Robots-Tag:noindex
X-PUBLISHED-TTL:PT1H
BEGIN:VTIMEZONE
TZID:Africa/Nairobi
BEGIN:STANDARD
TZOFFSETFROM:+0300
TZOFFSETTO:+0300
TZNAME:EAT
DTSTART:20250101T000000
END:STANDARD
END:VTIMEZONE
BEGIN:VEVENT
DTSTART;TZID=Africa/Nairobi:20250519T083000
DTEND;TZID=Africa/Nairobi:20250519T083000
DTSTAMP:20260426T021910
CREATED:20250402T085814Z
LAST-MODIFIED:20250402T111613Z
UID:10000027-1747643400-1747643400@www.iat.ac.ke
SUMMARY:Regular Classes Starting 19.05.2025
DESCRIPTION:19.05.2025\nMay\n2025\n08:30AM-10:30AM\nInternational Certificate in Digital Literacy(ICDL)\n3 months\nMombasa Branch\nPhysical\n\n\n19.05.2025\nMay\n2025\n10:30-12:30pm\nInternational Certificate in Digital Literacy(ICDL)\n3 Months\nCBD Branch\nPhysical\n\n\n19.05.2025\nMay\n2025\n12:30-2:30PM\nQuickBooks\n3 Weeks\nMombasa Branch\nPhysical\n\n\n19.05.2025\nMay\n2025\n12:30-2:30pm\nWeb Design\n2 Months\nCBD Branch\nPhysical\n\n\n19.05.2025\nMay\n2025\n4:30-6:30pm\nGraphic Design\n2 Months\nBuruburu\nPhysical\n\n\n19.05.2025\nMay\n2025\n2:00PM-4:00PM\nGraphic Design\n3 Months\nMombasa Branch\nPhysical\n\n\n19.05.2025\nMay\n2025\n2:30PM-4:30PM\nPython-Level 1\n6 weeks\nMombasa Branch\nPhysical\n\n\n19.05.2025\nMay\n2025\n4:00-6:00pm\nSoftware Engineering-Level 1\n1 Month\nMombasa Branch\nPhysical\n\n\n19.05.2025\nMay\n2025\n4:30-6:30pm\nSPSS\n3 Weeks\nMombasa Branch\nPhysical\n\n\n19.05.2025\nMay\n2025\n5:30-7:30pm\nArchiCAD\n3 Weeks\nCBD Branch\nPhysical
URL:https://www.iat.ac.ke/class/regular-classes-starting-19-05-2025/
LOCATION:Nairobi CBD Campus\, Hazina Towers\, 1st Floor\, Monrovia Street\, off Utalii Lane- Next to View Park Towers\, Nairobi\, Kenya
CATEGORIES:Regular-All Branches
END:VEVENT
END:VCALENDAR