BEGIN:VCALENDAR
VERSION:2.0
PRODID:-//Institute of Advanced Technology (IAT) - ECPv6.11.0.1//NONSGML v1.0//EN
CALSCALE:GREGORIAN
METHOD:PUBLISH
X-WR-CALNAME:Institute of Advanced Technology (IAT)
X-ORIGINAL-URL:https://www.iat.ac.ke
X-WR-CALDESC:Events for Institute of Advanced Technology (IAT)
REFRESH-INTERVAL;VALUE=DURATION:PT1H
X-Robots-Tag:noindex
X-PUBLISHED-TTL:PT1H
BEGIN:VTIMEZONE
TZID:Africa/Nairobi
BEGIN:STANDARD
TZOFFSETFROM:+0300
TZOFFSETTO:+0300
TZNAME:EAT
DTSTART:20250101T000000
END:STANDARD
END:VTIMEZONE
BEGIN:VEVENT
DTSTART;TZID=Africa/Nairobi:20250428T083000
DTEND;TZID=Africa/Nairobi:20250428T083000
DTSTAMP:20260426T061421
CREATED:20250402T085516Z
LAST-MODIFIED:20250402T111623Z
UID:10000030-1745829000-1745829000@www.iat.ac.ke
SUMMARY:Regular Classes Starting 28.04.2025
DESCRIPTION:28.04.2025\nApril\n2025\n2:30-4:30pm\nInternational Certificate in Digital Literacy(ICDL)\n3 Months\nCBD Branch\nPhysical\n\n\n28.04.2025\nApril\n2025\n4:30-6:30pm\nGraphic Design\n2 Months\nBuruburu Branch\nPhysical\n\n\n28.04.2025\nApril\n2025\n5:30-7:30pm\nExcel to Power BI\n3 Weeks\nCBD Branch\nPhysical\n\n\n28.04.2025\nApril\n2025\n5:30-7:30pm\nCompTIA Cloud Essentials\n1.5 Months\nCBD Branch\nPhysical\n\n\n28.04.2025\nApril\n2025\n5:30-7:30PM\nCompTIA CyberSecurity\n1.5 Months\nCBD Branch\nPhysical\n\n\n28.04.2025\nApril\n2025\n5:30-7:30PM\nPMP\n1.5 Months\nCBD Branch\nPhysical\n\n\n28.04.2025\nApril\n2025\n5:30-7:30PM\nAdvanced Excel\n3 Weeks\nCBD Branch\nPhysical
URL:https://www.iat.ac.ke/class/regular-classes-starting-28-04-2025/
LOCATION:Nairobi CBD Campus\, Hazina Towers\, 1st Floor\, Monrovia Street\, off Utalii Lane- Next to View Park Towers\, Nairobi\, Kenya
CATEGORIES:Regular-All Branches
END:VEVENT
BEGIN:VEVENT
DTSTART;TZID=Africa/Nairobi:20250428T083000
DTEND;TZID=Africa/Nairobi:20250428T083000
DTSTAMP:20260426T061421
CREATED:20250402T094019Z
LAST-MODIFIED:20250402T105812Z
UID:10000017-1745829000-1745829000@www.iat.ac.ke
SUMMARY:Online Classes Starting 28.04.2025
DESCRIPTION:28.04.2025\nApril\n2025\n8:30-10:30am\nInternational Certification in Digital Literacy(ICDL)\n3 Months\nOnline\n\n\n28.04.2025\nApril\n2025\n8:30-10:30am\nCertifcate in Web Design\n3 Months\nOnline\n\n\n28.04.2025\nApril\n2025\n8:30-10:30am\nCyber Security\n1 Month\nOnline\n\n\n28.04.2025\nApril\n2025\n8:30-10:30am\nInformation Technology Infrastructure Library(ITIL)\n1 Month\nOnline\n\n\n28.04.2025\nApril\n2025\n8:30-10:30am\nProject Management Professional(PMP)\n2 Months\nOnline\n\n\n28.04.2025\nApril\n2025\n10:30am-12:30pm\nLinux\n1 Month\nOnline\n\n\n28.04.2025\nApril\n2025\n10:30am-12:30pm\nData Science-Level I\n2 Months\nOnline\n\n\n28.04.2025\nApril\n2025\n12:30-2:30pm\nAdvanced Excel\n3 Weeks\nOnline\n\n\n28.04.2025\nApril\n2025\n12:30-2:30pm\nExcel to Power BI-Level I\n1 Month\nOnline\n\n\n28.04.2025\nApril\n2025\n12:30-2:30pm\nOracle SQL Fundamentals & Database Administrator\n2 Months\nOnline\n\n\n28.04.2025\nApril\n2025\n5:30-7:30pm\nPastel Accounting Package\n3 Weeks\nOnline
URL:https://www.iat.ac.ke/class/online-classes-starting-28-04-2025/
CATEGORIES:Online Classes-All Branches
LOCATION:https://www.iat.ac.ke/class/online-classes-starting-28-04-2025/
END:VEVENT
END:VCALENDAR