BEGIN:VCALENDAR
VERSION:2.0
PRODID:-//Institute of Advanced Technology (IAT) - ECPv6.11.0.1//NONSGML v1.0//EN
CALSCALE:GREGORIAN
METHOD:PUBLISH
X-ORIGINAL-URL:https://www.iat.ac.ke
X-WR-CALDESC:Events for Institute of Advanced Technology (IAT)
REFRESH-INTERVAL;VALUE=DURATION:PT1H
X-Robots-Tag:noindex
X-PUBLISHED-TTL:PT1H
BEGIN:VTIMEZONE
TZID:Africa/Nairobi
BEGIN:STANDARD
TZOFFSETFROM:+0300
TZOFFSETTO:+0300
TZNAME:EAT
DTSTART:20250101T000000
END:STANDARD
END:VTIMEZONE
BEGIN:VEVENT
DTSTART;TZID=Africa/Nairobi:20250421T083000
DTEND;TZID=Africa/Nairobi:20250421T083000
DTSTAMP:20260426T073428
CREATED:20250402T083920Z
LAST-MODIFIED:20250402T111628Z
UID:10000031-1745224200-1745224200@www.iat.ac.ke
SUMMARY:Regular Classes Starting 21.04.2025
DESCRIPTION:21.04.22025\nApril\n2025\n8:30-10:30am\nInternational Certificate in Digital Literacy(ICDL)\n3 Months\nBuruburu Branch\nPhysical\n\n\n21.04.22025\nApril\n2025\n10:30-12:30pm\nInternational Certificate in Digital Literacy(ICDL)\n3 Months\nCBD Branch\nPhysical\n\n\n21.04.22025\nApril\n2025\n10:30-12:30pm\nInternational Certificate in Digital Literacy(ICDL)\n3 Months\nMombasa Branch\nPhysical\n\n\n21.04.22025\nApril\n2025\n10:30am-12:30pm\nData Science-Level I\n1.5 Months\nMombasa Branch\nPhysical\n\n\n21.04.22025\nApril\n2025\n10:30am-12:30pm\nVideo Editing\n1 Month\nCBD Branch\nPhysical\n\n\n21.04.22025\nApril\n2025\n12:30-2:30pm\nQuickBooks\n3 Weeks\nMombasa Branch\nPhysical\n\n\n21.04.22025\nApril\n2025\n12:30-2:30pm\nDigital Marketing\n3 Weeks\nCBD Branch\nPhysical\n\n\n21.04.22025\nApril\n2025\n2:30-4:30pm\nDigital Marketing\n3 Weeks\nMombasa Branch\nPhysical\n\n\n21.04.22025\nApril\n2025\n4:30-6:30pm\nSPSS\n3 Weeks\nMombasa Branch\nPhysical\n\n\n21.04.22025\nApril\n2025\n4:30-6:30pm\nWeb Design\n3 Months\nMombasa Branch\nPhysical\n\n\n21.04.22025\nApril\n2025\n5:30-7:30pm\nAdvanced Excel\n3 Weeks\nMombasa Branch\nPhysical\n\n\n21.04.22025\nApril\n2025\n5:30-7:30\nSoftware Engineering-Level 1\n1 Month\nCBD Branch\nPhysical\n\n\n21.04.22025\nApril\n2025\n5:30-7:30\nCompTIA N+\n1.5 Months\nCBD Branch\nPhysical\n\n\n21.04.22025\nApril\n2025\n5:30-7:30\nAdvanced ICDL\n6 Weeks\nCBD Branch\nPhysical\n\n\n21.04.22025\nApril\n2025\n5:30-7:30pm\nCisco Certified Network Associate(CCNA)\n2 Months\nCBD Branch\nPhysical
URL:https://www.iat.ac.ke/class/regular-classes-starting-21-04-2025/
LOCATION:Nairobi CBD Campus\, Hazina Towers\, 1st Floor\, Monrovia Street\, off Utalii Lane- Next to View Park Towers\, Nairobi\, Kenya
CATEGORIES:Regular-All Branches
END:VEVENT
BEGIN:VEVENT
DTSTART;TZID=Africa/Nairobi:20250421T083000
DTEND;TZID=Africa/Nairobi:20250421T083000
DTSTAMP:20260426T073428
CREATED:20250402T090955Z
LAST-MODIFIED:20250402T110404Z
UID:10000018-1745224200-1745224200@www.iat.ac.ke
SUMMARY:Saturday Only Classes Starting 21.04.2025
DESCRIPTION:21.04.2025\nApril\n2025\n9:00am-1:00pm\nGraphic Design\n3 Months\nWith 15 minutes breaks\nCBD Branch\nSaturday Only-Physical\n\n\n21.04.2025\nApril\n2025\n9:00am-1:00pm\nMs.Ooutlook\n1 Month\nWith 15 minutes breaks\nCBD Branch\nSaturday Only-Physical\n\n\n21.04.2025\nApril\n2025\n9:00am-1:00pm\nMs.Outlook Teams\n1 Month\nWith 15 minutes breaks\nCBD Branch\nSaturday Only-Physical\n\n\n21.04.2025\nApril\n2025\n9:00am-1:00pm\nInternational Certification in Digital Literacy(ICDL)\n3 Months\nWith 15 minutes breaks\nCBD Branch\nSaturday Only-Physical\n\n\n21.04.2025\nApril\n2025\n9:00am-1:00pm\nAdvanced Excel\n6 Weeks\nWith 15 minutes breaks\nCBD Branch\nSaturday Only-Physical
URL:https://www.iat.ac.ke/class/saturday-only-classes-starting-21-04-2025/
LOCATION:Nairobi CBD Campus\, Hazina Towers\, 1st Floor\, Monrovia Street\, off Utalii Lane- Next to View Park Towers\, Nairobi\, Kenya
CATEGORIES:Saturday Only Classes
END:VEVENT
BEGIN:VEVENT
DTSTART;TZID=Africa/Nairobi:20250421T083000
DTEND;TZID=Africa/Nairobi:20250421T083000
DTSTAMP:20260426T073428
CREATED:20250402T093851Z
LAST-MODIFIED:20250402T105808Z
UID:10000016-1745224200-1745224200@www.iat.ac.ke
SUMMARY:Online Classes Starting 21.04.2025
DESCRIPTION:21.04.2025\nApril\n2025\n5:30PM-7:30PM\nSPSS\n3 weeks\nOnline\n\n\n21.04.2025\nApril\n2025\n5:30PM-7:30PM\nCertificate in Programming\n40 hrs\nOnline\n\n\n21.04.2025\nApril\n2025\n5:30PM-7:30PM\nCyber Security\n1 month\nOnline\n\n\n21.04.2025\nApril\n2025\n5:30PM-7:30PM\nArchiCAD\n3 Weeks\nOnline\n\n\n21.04.2025\nApril\n2025\n5:30PM-7:30PM\nAutoCAD\n3 Weeks\nOnline
URL:https://www.iat.ac.ke/class/online-classes-starting-21-04-2025/
CATEGORIES:Online Classes-All Branches
LOCATION:
END:VEVENT
END:VCALENDAR