BEGIN:VCALENDAR
VERSION:2.0
PRODID:-//Institute of Advanced Technology (IAT) - ECPv6.11.0.1//NONSGML v1.0//EN
CALSCALE:GREGORIAN
METHOD:PUBLISH
X-ORIGINAL-URL:https://www.iat.ac.ke
X-WR-CALDESC:Events for Institute of Advanced Technology (IAT)
REFRESH-INTERVAL;VALUE=DURATION:PT1H
X-Robots-Tag:noindex
X-PUBLISHED-TTL:PT1H
BEGIN:VTIMEZONE
TZID:Africa/Nairobi
BEGIN:STANDARD
TZOFFSETFROM:+0300
TZOFFSETTO:+0300
TZNAME:EAT
DTSTART:20260101T000000
END:STANDARD
END:VTIMEZONE
BEGIN:VEVENT
DTSTART;TZID=Africa/Nairobi:20260314T090000
DTEND;TZID=Africa/Nairobi:20260314T130000
DTSTAMP:20260423T232354
CREATED:20260223T092354Z
LAST-MODIFIED:20260312T070611Z
UID:10000101-1773478800-1773493200@www.iat.ac.ke
SUMMARY:Saturday Only Classes Starting 14.03.2026
DESCRIPTION:14/03/2026\nMarch\n2026\n9:00am-1:00pm\nGraphic Design\n3 Months\nPhysical\n\n\n14/03/2026\nMarch\n2026\n9:00am-1:00pm\nMs.Outlook\n1 Month\nPhysical\n\n\n14/03/2026\nMarch\n2026\n9:00am-1:00pm\nMs.Outlook Teams\n1 Month\nPhysical\n\n\n14/03/2026\nMarch\n2026\n9:00am-1:00pm\nCyber Security\n1.5 Months\nPhysical\n\n\n14/03/2026\nMarch\n2026\n9:00am-1:00pm\nCompTIA Cloud+\n1.5 Months\nPhysical
URL:https://www.iat.ac.ke/class/saturday-only-classes-starting-14-03-2026/
LOCATION:Nairobi CBD Campus\, Hazina Towers\, 1st Floor\, Monrovia Street\, off Utalii Lane- Next to View Park Towers\, Nairobi\, Kenya
CATEGORIES:Saturday Only Classes
END:VEVENT
END:VCALENDAR