BEGIN:VCALENDAR
VERSION:2.0
PRODID:-//Institute of Advanced Technology (IAT) - ECPv6.11.0.1//NONSGML v1.0//EN
CALSCALE:GREGORIAN
METHOD:PUBLISH
X-ORIGINAL-URL:https://www.iat.ac.ke
X-WR-CALDESC:Events for Institute of Advanced Technology (IAT)
REFRESH-INTERVAL;VALUE=DURATION:PT1H
X-Robots-Tag:noindex
X-PUBLISHED-TTL:PT1H
BEGIN:VTIMEZONE
TZID:Africa/Nairobi
BEGIN:STANDARD
TZOFFSETFROM:+0300
TZOFFSETTO:+0300
TZNAME:EAT
DTSTART:20260101T000000
END:STANDARD
END:VTIMEZONE
BEGIN:VEVENT
DTSTART;TZID=Africa/Nairobi:20260131T090000
DTEND;TZID=Africa/Nairobi:20260131T130000
DTSTAMP:20260424T064005
CREATED:20260116T125402Z
LAST-MODIFIED:20260116T125402Z
UID:10000080-1769850000-1769864400@www.iat.ac.ke
SUMMARY:Saturday Only Classes Starting 31.01.2026
DESCRIPTION:24/01/2026\nJanuary\n2026\n9:00am-1:00pm\nWeb Design-Level I\n1 Month\nPhysical\n\n\n24/01/2026\nJanuary\n2026\n9:00am-1:00pm\nFibre Optics\n1 Month\nPhysical\n\n\n24/01/2026\nJanuary\n2026\n9:00am-1:00pm\nSoftware Engineering\n3 Months\nPhysical\n\n\n24/01/2026\nJanuary\n2026\n9:00am-1:00pm\nAdvanced Excel\n3 Weeks\nPhysical\n\n\n24/01/2026\nJanuary\n2026\n9:00am-1:00pm\nComPTIA N+\n1 MONTH\nPhysical\n\n\n24/01/2026\nJanuary\n2026\n9:00am-1:00pm\nQuickbooks\n1 Month\nPhysical\n\n\n24/01/2026\nJanuary\n2026\n9:00am-1:00pm\nData Science-Level I\n1 Month\nPhysical\n\n\n24/01/2026\nJanuary\n2026\n9:00am-1:00pm\nGraphic Design\n3 Months\nPhysical\n\n\n24/01/2026\nJanuary\n2026\n9:00am-1:00pm\nMs.Outlook\n1 Month\nPhysical\n\n\n24/01/2026\nJanuary\n2026\n9:00am-1:00pm\nMs.Outlook Teams\n1 Month\nPhysical\n\n\n24/01/2026\nJanuary\n2026\n9:00am-1:00pm\nCyber Security\n1.5 Months\nPhysical\n\n\n24/01/2026\nJanuary\n2026\n9:00am-1:00pm\nCompTIA Cloud+\n1.5 Months\nPhysical
URL:https://www.iat.ac.ke/class/saturday-only-classes-starting-31-01-2026/
LOCATION:Nairobi CBD Campus\, Hazina Towers\, 1st Floor\, Monrovia Street\, off Utalii Lane- Next to View Park Towers\, Nairobi\, Kenya
CATEGORIES:Saturday Only Classes
END:VEVENT
END:VCALENDAR