BEGIN:VCALENDAR
VERSION:2.0
PRODID:-//Institute of Advanced Technology (IAT) - ECPv6.11.0.1//NONSGML v1.0//EN
CALSCALE:GREGORIAN
METHOD:PUBLISH
X-ORIGINAL-URL:https://www.iat.ac.ke
X-WR-CALDESC:Events for Institute of Advanced Technology (IAT)
REFRESH-INTERVAL;VALUE=DURATION:PT1H
X-Robots-Tag:noindex
X-PUBLISHED-TTL:PT1H
BEGIN:VTIMEZONE
TZID:Africa/Nairobi
BEGIN:STANDARD
TZOFFSETFROM:+0300
TZOFFSETTO:+0300
TZNAME:EAT
DTSTART:20250101T000000
END:STANDARD
END:VTIMEZONE
BEGIN:VEVENT
DTSTART;TZID=Africa/Nairobi:20260321T090000
DTEND;TZID=Africa/Nairobi:20260321T130000
DTSTAMP:20260421T152112
CREATED:20260223T092748Z
LAST-MODIFIED:20260223T092748Z
UID:10000102-1774083600-1774098000@www.iat.ac.ke
SUMMARY:Saturday Only Classes Starting 21.03.2026
DESCRIPTION:21/03/2026\nMarch\n2026\n9:00am-1:00pm\nICDL\n3 Months\nPhysical\n\n\n21/03/2026\nMarch\n2026\n9:00am-1:00pm\nAdvanced Excel\n6 Weeks\nPhysical\n\n\n21/03/2026\nMarch\n2026\n9:00am-1:00pm\nSoftware Engineering\n3 Months\nPhysical\n\n\n21/03/2026\nMarch\n2026\n9:00am-1:00pm\nExcel to Power BI\n1.5 Months\nPhysical\n\n\n21/03/2026\nMarch\n2026\n9:00am-1:00pm\nCCTV Technology\n2 Months\nPhysical\n\n\n21/03/2026\nMarch\n2026\n9:00am-1:00pm\nCompTIA Linux+\n1.5 Months\nPhysical\n\n\n21/03/2026\nMarch\n2026\n9:00am-1:00pm\nCompTIA Linux+\n1.5 Months\nPhysical\n\n\n21/03/2026\nMarch\n2026\n9:00am-1:00pm\nCompTIA PenTest+\n1.5 Months\nPhysical\n\n\n21/03/2026\nMarch\n2026\n9:00am-1:00pm\nCompTIA CySA+\n1.5 Months\nPhysical\n\n\n21/03/2026\nMarch\n2026\n9:00am-1:00pm\nComPTIA Data+\n1.5 Months\nPhysical\n\n\n21/03/2026\nMarch\n2026\n9:00am-1:00pm\nCompTIA DataSys+\n1.5 Months\nPhysical\n\n\n21/03/2026\nMarch\n2026\n9:00am-1:00pm\nPython(Basic)\n1.5 Months\nPhysical
URL:https://www.iat.ac.ke/class/saturday-only-classes-starting-21-03-2026/
LOCATION:Nairobi CBD Campus\, Hazina Towers\, 1st Floor\, Monrovia Street\, off Utalii Lane- Next to View Park Towers\, Nairobi\, Kenya
CATEGORIES:Saturday Only Classes
END:VEVENT
BEGIN:VEVENT
DTSTART;TZID=Africa/Nairobi:20260314T090000
DTEND;TZID=Africa/Nairobi:20260314T130000
DTSTAMP:20260421T152112
CREATED:20260223T092354Z
LAST-MODIFIED:20260312T070611Z
UID:10000101-1773478800-1773493200@www.iat.ac.ke
SUMMARY:Saturday Only Classes Starting 14.03.2026
DESCRIPTION:14/03/2026\nMarch\n2026\n9:00am-1:00pm\nGraphic Design\n3 Months\nPhysical\n\n\n14/03/2026\nMarch\n2026\n9:00am-1:00pm\nMs.Outlook\n1 Month\nPhysical\n\n\n14/03/2026\nMarch\n2026\n9:00am-1:00pm\nMs.Outlook Teams\n1 Month\nPhysical\n\n\n14/03/2026\nMarch\n2026\n9:00am-1:00pm\nCyber Security\n1.5 Months\nPhysical\n\n\n14/03/2026\nMarch\n2026\n9:00am-1:00pm\nCompTIA Cloud+\n1.5 Months\nPhysical
URL:https://www.iat.ac.ke/class/saturday-only-classes-starting-14-03-2026/
LOCATION:Nairobi CBD Campus\, Hazina Towers\, 1st Floor\, Monrovia Street\, off Utalii Lane- Next to View Park Towers\, Nairobi\, Kenya
CATEGORIES:Saturday Only Classes
END:VEVENT
BEGIN:VEVENT
DTSTART;TZID=Africa/Nairobi:20260307T090000
DTEND;TZID=Africa/Nairobi:20260307T130000
DTSTAMP:20260421T152112
CREATED:20260223T091747Z
LAST-MODIFIED:20260223T092014Z
UID:10000100-1772874000-1772888400@www.iat.ac.ke
SUMMARY:Saturday Only Classes Starting 07.03.2026
DESCRIPTION:07/03/2026\nMarch\n2026\n9:00am-1:00pm\nCompTIA A+\n2 Months\nPhysical\n\n\n\n07/03/2026\nMarch\n2026\n9:00am-1:00pm\nCisco Certified Network Professional(CCNP)\n2.5 Months\nPhysical\n\n\n\n07/03/2026\nMarch\n2026\n9:00am-1:00pm\nWeb Design-Level III\n1 Month\nPhysical\n\n\n\n07/03/2026\nMarch\n2026\n9:00am-1:00pm\nSoftware Engineering\n3 Months\nPhysical\n\n\n\n07/03/2026\nMarch\n2026\n9:00am-1:00pm\nAdvanced Excel\n3 Weeks\nPhysical\n\n\n\n07/03/2026\nMarch\n2026\n9:00am-1:00pm\nComPTIA N+\n1 Month\nPhysical\n\n\n\n07/03/2026\nMarch\n2026\n9:00am-1:00pm\nQuickbooks\n1 Month\nPhysical\n\n\n\n07/03/2026\nMarch\n2026\n9:00am-1:00pm\nData Science-Level III\n1 Month\nPhysical
URL:https://www.iat.ac.ke/class/saturday-only-classes-starting-07-03-2026/
LOCATION:Nairobi CBD Campus\, Hazina Towers\, 1st Floor\, Monrovia Street\, off Utalii Lane- Next to View Park Towers\, Nairobi\, Kenya
CATEGORIES:Saturday Only Classes
END:VEVENT
BEGIN:VEVENT
DTSTART;TZID=Africa/Nairobi:20260228T090000
DTEND;TZID=Africa/Nairobi:20260228T130000
DTSTAMP:20260421T152112
CREATED:20260209T104312Z
LAST-MODIFIED:20260209T104312Z
UID:10000088-1772269200-1772283600@www.iat.ac.ke
SUMMARY:Saturday Only Classes Starting 28.02.2026
DESCRIPTION:28/02/2026\nFebruary\n2026\n9:00am-1:00pm\nICDL\n3 Months\nPhysical\n\n\n28/02/2026\nFebruary\n2026\n9:00am-1:00pm\nAdvanced Excel\n6 Weeks\nPhysical\n\n\n28/02/2026\nFebruary\n2026\n9:00am-1:00pm\nSoftware Engineering\n3 Months\nPhysical\n\n\n28/02/2026\nFebruary\n2026\n9:00am-1:00pm\nExcel to Power BI\n1.5 Months\nPhysical\n\n\n28/02/2026\nFebruary\n2026\n9:00am-1:00pm\nR-Programming\n1 Month\nPhysical\n\n\n28/02/2026\nFebruary\n2026\n9:00am-1:00pm\nCCTV Technology\n2 Months\nPhysical\n\n\n28/02/2026\nFebruary\n2026\n9:00am-1:00pm\nCompTIA Linux+\n1.5 Months\nPhysical\n\n\n28/02/2026\nFebruary\n2026\n9:00am-1:00pm\nCompTIA Linux+\n1.5 Months\nPhysical\n\n\n28/02/2026\nFebruary\n2026\n9:00am-1:00pm\nCompTIA PenTest+\n1.5 Months\nPhysical\n\n\n28/02/2026\nFebruary\n2026\n9:00am-1:00pm\nCompTIA CySA+\n1.5 Months\nPhysical\n\n\n28/02/2026\nFebruary\n2026\n9:00am-1:00pm\nComPTIA Data+\n1.5 Months\nPhysical\n\n\n28/02/2026\nFebruary\n2026\n9:00am-1:00pm\nCompTIA DataSys+\n1.5 Months\nPhysical\n\n\n28/02/2026\nFebruary\n2026\n9:00am-1:00pm\nPython(Basic)\n1.5 Months\nPhysical
URL:https://www.iat.ac.ke/class/saturday-only-classes-starting-28-02-2026/
LOCATION:Nairobi CBD Campus\, Hazina Towers\, 1st Floor\, Monrovia Street\, off Utalii Lane- Next to View Park Towers\, Nairobi\, Kenya
CATEGORIES:Saturday Only Classes
END:VEVENT
BEGIN:VEVENT
DTSTART;TZID=Africa/Nairobi:20260221T090000
DTEND;TZID=Africa/Nairobi:20260221T130000
DTSTAMP:20260421T152112
CREATED:20260209T103520Z
LAST-MODIFIED:20260209T103520Z
UID:10000087-1771664400-1771678800@www.iat.ac.ke
SUMMARY:Saturday Only Classes Starting 21.02.2026
DESCRIPTION:21/02/2026\nFebruary\n2026\n9:00am-1:00pm\nGraphic Design\n3 Months\nPhysical\n\n\n21/02/2026\nFebruary\n2026\n9:00am-1:00pm\nMs.Outlook\n1 Month\nPhysical\n\n\n21/02/2026\nFebruary\n2026\n9:00am-1:00pm\nMs.Outlook Teams\n1 Month\nPhysical\n\n\n21/02/2026\nFebruary\n2026\n9:00am-1:00pm\nCyber Security\n1.5 Months\nPhysical\n\n\n21/02/2026\nFebruary\n2026\n9:00am-1:00pm\nCompTIA Cloud+\n1.5 Months\nPhysical
URL:https://www.iat.ac.ke/class/saturday-only-classes-starting-21-02-2026/
LOCATION:Nairobi CBD Campus\, Hazina Towers\, 1st Floor\, Monrovia Street\, off Utalii Lane- Next to View Park Towers\, Nairobi\, Kenya
CATEGORIES:Saturday Only Classes
END:VEVENT
BEGIN:VEVENT
DTSTART;TZID=Africa/Nairobi:20260131T090000
DTEND;TZID=Africa/Nairobi:20260131T130000
DTSTAMP:20260421T152112
CREATED:20260116T125402Z
LAST-MODIFIED:20260116T125402Z
UID:10000080-1769850000-1769864400@www.iat.ac.ke
SUMMARY:Saturday Only Classes Starting 31.01.2026
DESCRIPTION:24/01/2026\nJanuary\n2026\n9:00am-1:00pm\nWeb Design-Level I\n1 Month\nPhysical\n\n\n24/01/2026\nJanuary\n2026\n9:00am-1:00pm\nFibre Optics\n1 Month\nPhysical\n\n\n24/01/2026\nJanuary\n2026\n9:00am-1:00pm\nSoftware Engineering\n3 Months\nPhysical\n\n\n24/01/2026\nJanuary\n2026\n9:00am-1:00pm\nAdvanced Excel\n3 Weeks\nPhysical\n\n\n24/01/2026\nJanuary\n2026\n9:00am-1:00pm\nComPTIA N+\n1 MONTH\nPhysical\n\n\n24/01/2026\nJanuary\n2026\n9:00am-1:00pm\nQuickbooks\n1 Month\nPhysical\n\n\n24/01/2026\nJanuary\n2026\n9:00am-1:00pm\nData Science-Level I\n1 Month\nPhysical\n\n\n24/01/2026\nJanuary\n2026\n9:00am-1:00pm\nGraphic Design\n3 Months\nPhysical\n\n\n24/01/2026\nJanuary\n2026\n9:00am-1:00pm\nMs.Outlook\n1 Month\nPhysical\n\n\n24/01/2026\nJanuary\n2026\n9:00am-1:00pm\nMs.Outlook Teams\n1 Month\nPhysical\n\n\n24/01/2026\nJanuary\n2026\n9:00am-1:00pm\nCyber Security\n1.5 Months\nPhysical\n\n\n24/01/2026\nJanuary\n2026\n9:00am-1:00pm\nCompTIA Cloud+\n1.5 Months\nPhysical
URL:https://www.iat.ac.ke/class/saturday-only-classes-starting-31-01-2026/
LOCATION:Nairobi CBD Campus\, Hazina Towers\, 1st Floor\, Monrovia Street\, off Utalii Lane- Next to View Park Towers\, Nairobi\, Kenya
CATEGORIES:Saturday Only Classes
END:VEVENT
BEGIN:VEVENT
DTSTART;TZID=Africa/Nairobi:20260124T090000
DTEND;TZID=Africa/Nairobi:20260124T130000
DTSTAMP:20260421T152112
CREATED:20260116T125053Z
LAST-MODIFIED:20260116T125053Z
UID:10000079-1769245200-1769259600@www.iat.ac.ke
SUMMARY:Saturday Only Classes Starting 24.01.2026
DESCRIPTION:24/01/2026\nJanuary\n2026\n9:00am-1:00pm\nWeb Design-Level I\n1 Month\nPhysical\n\n\n24/01/2026\nJanuary\n2026\n9:00am-1:00pm\nFibre Optics\n1 Month\nPhysical\n\n\n24/01/2026\nJanuary\n2026\n9:00am-1:00pm\nSoftware Engineering\n3 Months\nPhysical\n\n\n24/01/2026\nJanuary\n2026\n9:00am-1:00pm\nAdvanced Excel\n3 Weeks\nPhysical\n\n\n24/01/2026\nJanuary\n2026\n9:00am-1:00pm\nComPTIA N+\n1 MONTH\nPhysical\n\n\n24/01/2026\nJanuary\n2026\n9:00am-1:00pm\nQuickbooks\n1 Month\nPhysical\n\n\n24/01/2026\nJanuary\n2026\n9:00am-1:00pm\nData Science-Level I\n1 Month\nPhysical\n\n\n24/01/2026\nJanuary\n2026\n9:00am-1:00pm\nGraphic Design\n3 Months\nPhysical\n\n\n24/01/2026\nJanuary\n2026\n9:00am-1:00pm\nMs.Outlook\n1 Month\nPhysical\n\n\n24/01/2026\nJanuary\n2026\n9:00am-1:00pm\nMs.Outlook Teams\n1 Month\nPhysical\n\n\n24/01/2026\nJanuary\n2026\n9:00am-1:00pm\nCyber Security\n1.5 Months\nPhysical\n\n\n24/01/2026\nJanuary\n2026\n9:00am-1:00pm\nCompTIA Cloud+\n1.5 Months\nPhysical
URL:https://www.iat.ac.ke/class/saturday-only-classes-starting-24-01-2026/
LOCATION:Nairobi CBD Campus\, Hazina Towers\, 1st Floor\, Monrovia Street\, off Utalii Lane- Next to View Park Towers\, Nairobi\, Kenya
CATEGORIES:Saturday Only Classes
END:VEVENT
BEGIN:VEVENT
DTSTART;TZID=Africa/Nairobi:20250927T090000
DTEND;TZID=Africa/Nairobi:20250927T090000
DTSTAMP:20260421T152112
CREATED:20250829T084127Z
LAST-MODIFIED:20250829T084127Z
UID:10000069-1758963600-1758963600@www.iat.ac.ke
SUMMARY:Saturday Only Classes Starting 27.09.2025
DESCRIPTION:27/09/2025\nSeptember\n2025\n9:00am-1:00pm\nICDL\n3 Months\nPhysical\n\n\n27/09/2025\nSeptember\n2025\n9:00am-1:00pm\nAdvanced Excel\n6 Weeks\nPhysical\n\n\n27/09/2025\nSeptember\n2025\n9:00am-1:00pm\nSoftware Engineering\n3 Months\nPhysical\n\n\n27/09/2025\nSeptember\n2025\n9:00am-1:00pm\nExcel to Power BI\n1.5 Months\nPhysical\n\n\n27/09/2025\nSeptember\n2025\n9:00am-1:00pm\nR-Programming\n1 Month\nPhysical\n\n\n27/09/2025\nSeptember\n2025\n9:00am-1:00pm\nCCTV Technology\n2 Months\nPhysical\n\n\n27/09/2025\nSeptember\n2025\n9:00am-1:00pm\nCompTIA Linux+\n1.5 Months\nPhysical\n\n\n27/09/2025\nSeptember\n2025\n9:00am-1:00pm\nCompTIA Linux+\n1.5 Months\nPhysical\n\n\n27/09/2025\nSeptember\n2025\n9:00am-1:00pm\nCompTIA PenTest+\n1.5 Months\nPhysical\n\n\n27/09/2025\nSeptember\n2025\n9:00am-1:00pm\nCompTIA CySA+\n1.5 Months\nPhysical\n\n\n27/09/2025\nSeptember\n2025\n9:00am-1:00pm\nComPTIA Data+\n1.5 Months\nPhysical\n\n\n27/09/2025\nSeptember\n2025\n9:00am-1:00pm\nCompTIA DataSys+\n1.5 Months\nPhysical\n\n\n27/09/2025\nSeptember\n2025\n9:00am-1:00pm\nPython(Basic)\n1.5 Months\nPhysical
URL:https://www.iat.ac.ke/class/saturday-only-classes-starting-27-09-2025/
LOCATION:Nairobi CBD Campus\, Hazina Towers\, 1st Floor\, Monrovia Street\, off Utalii Lane- Next to View Park Towers\, Nairobi\, Kenya
CATEGORIES:Saturday Only Classes
END:VEVENT
BEGIN:VEVENT
DTSTART;TZID=Africa/Nairobi:20250920T090000
DTEND;TZID=Africa/Nairobi:20250920T090000
DTSTAMP:20260421T152112
CREATED:20250829T083856Z
LAST-MODIFIED:20250829T083856Z
UID:10000068-1758358800-1758358800@www.iat.ac.ke
SUMMARY:Saturday Only Classes Starting 20.09.2025
DESCRIPTION:20/09/2025\nSeptember\n2025\n9:00am-1:00pm\nGraphic Design\n3 Months\nPhysical\n\n\n20/09/2025\nSeptember\n2025\n9:00am-1:00pm\nMs.Outlook\n1 Month\nPhysical\n\n\n20/09/2025\nSeptember\n2025\n9:00am-1:00pm\nMs.Outlook Teams\n1 Month\nPhysical\n\n\n20/09/2025\nSeptember\n2025\n9:00am-1:00pm\nCyber Security\n1.5 Months\nPhysical\n\n\n20/09/2025\nSeptember\n2025\n9:00am-1:00pm\nCompTIA Cloud+\n1.5 Months\nPhysical
URL:https://www.iat.ac.ke/class/saturday-only-classes-starting-20-09-2025/
LOCATION:Nairobi CBD Campus\, Hazina Towers\, 1st Floor\, Monrovia Street\, off Utalii Lane- Next to View Park Towers\, Nairobi\, Kenya
CATEGORIES:Saturday Only Classes
END:VEVENT
BEGIN:VEVENT
DTSTART;TZID=Africa/Nairobi:20250913T090000
DTEND;TZID=Africa/Nairobi:20250913T090000
DTSTAMP:20260421T152112
CREATED:20250829T083530Z
LAST-MODIFIED:20250829T083530Z
UID:10000067-1757754000-1757754000@www.iat.ac.ke
SUMMARY:Saturday Only Classes Starting 13.09.2025
DESCRIPTION:13/09/2025\nSeptember\n2025\n9:00am-1:00pm\nCisco Certified Network Professional(CCNP)\n2.5 Months\nPhysical\n\n\n\n13/09/2025\nSeptember\n2025\n9:00am-1:00pm\nWeb Design-Level II\n1 Month\nPhysical\n\n\n\n13/09/2025\nSeptember\n2025\n9:00am-1:00pm\nSoftware Engineering\n3 Months\nPhysical\n\n\n\n13/09/2025\nSeptember\n2025\n9:00am-1:00pm\nAdvanced Excel\n3 Weeks\nPhysical\n\n\n\n13/09/2025\nSeptember\n2025\n9:00am-1:00pm\nComPTIA N+\n1 Month\nPhysical\n\n\n\n13/09/2025\nSeptember\n2025\n9:00am-1:00pm\nQuickbooks\n1 Month\nPhysical
URL:https://www.iat.ac.ke/class/saturday-only-classes-starting-13-09-2025/
LOCATION:Nairobi CBD Campus\, Hazina Towers\, 1st Floor\, Monrovia Street\, off Utalii Lane- Next to View Park Towers\, Nairobi\, Kenya
CATEGORIES:Saturday Only Classes
END:VEVENT
BEGIN:VEVENT
DTSTART;TZID=Africa/Nairobi:20250830T090000
DTEND;TZID=Africa/Nairobi:20250830T090000
DTSTAMP:20260421T152112
CREATED:20250722T083317Z
LAST-MODIFIED:20250722T083317Z
UID:10000056-1756544400-1756544400@www.iat.ac.ke
SUMMARY:Saturday Only Classes Starting 30.08.2025
DESCRIPTION:30/08/2025\nAugust\n2025\n9:00am-1:00pm\nICDL\n3 Months\nPhysical\nWith 15 minutes breaks\n\n\n30/08/2025\nAugust\n2025\n9:00am-1:00pm\nAdvanced Excel\n6 Weeks\nPhysical\nWith 15 minutes breaks\n\n\n30/08/2025\nAugust\n2025\n9:00am-1:00pm\nSoftware Engineering\n3 Months\nPhysical\nWith 15 minutes breaks\n\n\n30/08/2025\nAugust\n2025\n9:00am-1:00pm\nExcel to Power BI\n1.5 Months\nPhysical\nWith 15 minutes breaks\n\n\n30/08/2025\nAugust\n2025\n9:00am-1:00pm\nCompTIA Linux+\n1.5 Months\nPhysical\nWith 15 minutes breaks\n\n\n30/08/2025\nAugust\n2025\n9:00am-1:00pm\nR-Programming\n1 Month\nPhysical\nWith 15 minutes breaks\n\n\n30/08/2025\nAugust\n2025\n9:00am-1:00pm\nExcel to Power BI\n1.5 Months\nPhysical\nWith 15 minutes breaks\n\n\n30/08/2025\nAugust\n2025\n9:00am-1:00pm\nCompTIA Linux+\n1.5 Months\nPhysical\nWith 15 minutes breaks\n\n\n30/08/2025\nAugust\n2025\n9:00am-1:00pm\nCompTIA PenTest+\n1.5 Months\nPhysical\nWith 15 minutes breaks\n\n\n30/08/2025\nAugust\n2025\n9:00am-1:00pm\nCompTIA CySA+\n1.5 Months\nPhysical\nWith 15 minutes breaks\n\n\n30/08/2025\nAugust\n2025\n9:00am-1:00pm\nComPTIA Data+\n1.5 Months\nPhysical\nWith 15 minutes breaks\n\n\n30/08/2025\nAugust\n2025\n9:00am-1:00pm\nCompTIA DataSys+\n1.5 Months\nPhysical\nWith 15 minutes breaks\n\n\n30/08/2025\nAugust\n2025\n9:00am-1:00pm\nPython(Basic)\n1.5 Months\nPhysical\nWith 15 minutes breaks
URL:https://www.iat.ac.ke/class/saturday-only-classes-starting-30-08-2025/
LOCATION:Nairobi CBD Campus\, Hazina Towers\, 1st Floor\, Monrovia Street\, off Utalii Lane- Next to View Park Towers\, Nairobi\, Kenya
CATEGORIES:Saturday Only Classes
END:VEVENT
BEGIN:VEVENT
DTSTART;TZID=Africa/Nairobi:20250823T090000
DTEND;TZID=Africa/Nairobi:20250823T090000
DTSTAMP:20260421T152112
CREATED:20250722T083125Z
LAST-MODIFIED:20250722T083125Z
UID:10000055-1755939600-1755939600@www.iat.ac.ke
SUMMARY:Saturday Only Classes Starting 23.08.2025
DESCRIPTION:23/08/2025\nAugust\n2025\n9:00am-1:00pm\nGraphic Design\n3 Months\nPhysical\nWith 15 minutes breaks\n\n\n23/08/2025\nAugust\n2025\n9:00am-1:00pm\nMs.Outlook\n1 Month\nPhysical\nWith 15 minutes breaks\n\n\n23/08/2025\nAugust\n2025\n9:00am-1:00pm\nMs.Outlook Teams\n1 Month\nPhysical\nWith 15 minutes breaks\n\n\n23/08/2025\nAugust\n2025\n9:00am-1:00pm\nCyber Security\n1.5 Months\nPhysical\nWith 15 minutes breaks\n\n\n23/08/2025\nAugust\n2025\n9:00am-1:00pm\nCompTIA Cloud+\n1.5 Months\nPhysical\nWith 15 minutes breaks
URL:https://www.iat.ac.ke/class/saturday-only-classes-starting-23-08-2025/
LOCATION:Nairobi CBD Campus\, Hazina Towers\, 1st Floor\, Monrovia Street\, off Utalii Lane- Next to View Park Towers\, Nairobi\, Kenya
CATEGORIES:Saturday Only Classes
END:VEVENT
BEGIN:VEVENT
DTSTART;TZID=Africa/Nairobi:20250809T090000
DTEND;TZID=Africa/Nairobi:20250809T090000
DTSTAMP:20260421T152112
CREATED:20250722T082921Z
LAST-MODIFIED:20250722T082921Z
UID:10000054-1754730000-1754730000@www.iat.ac.ke
SUMMARY:Saturday Only Classes Starting 09.08.2025
DESCRIPTION:9/8/2025\nAugust\n2025\n9:00am-1:00pm\nWeb Design-Level I\n1 Month\nPhysical\nWith 15 minutes breaks\n\n\n9/8/2025\nAugust\n2025\n9:00am-1:00pm\nFibre Optics\n1 Month\nPhysical\nWith 15 minutes breaks\n\n\n9/8/2025\nAugust\n2025\n9:00am-1:00pm\nSoftware Engineering\n3 Months\nPhysical\nWith 15 minutes breaks\n\n\n9/8/2025\nAugust\n2025\n9:00am-1:00pm\nAdvanced Excel\n3 Weeks\nPhysical\nWith 15 minutes breaks\n\n\n9/8/2025\nAugust\n2025\n9:00am-1:00pm\nComPTIA N+\n1 MONTH\nPhysical\nWith 15 minutes breaks\n\n\n9/8/2025\nAugust\n2025\n9:00am-1:00pm\nQuickbooks\n1 Month\nPhysical\nWith 15 minutes breaks\n\n\n9/8/2025\nAugust\n2025\n9:00am-1:00pm\nData Science-Level I\n1 Month\nPhysical\nWith 15 minutes breaks
URL:https://www.iat.ac.ke/class/saturday-only-classes-starting-09-08-2025/
LOCATION:Nairobi CBD Campus\, Hazina Towers\, 1st Floor\, Monrovia Street\, off Utalii Lane- Next to View Park Towers\, Nairobi\, Kenya
CATEGORIES:Saturday Only Classes
END:VEVENT
BEGIN:VEVENT
DTSTART;TZID=Africa/Nairobi:20250712T090000
DTEND;TZID=Africa/Nairobi:20250712T130000
DTSTAMP:20260421T152112
CREATED:20250704T123853Z
LAST-MODIFIED:20250704T123853Z
UID:10000041-1752310800-1752325200@www.iat.ac.ke
SUMMARY:Saturday Only Classes Starting 12.07.2025
DESCRIPTION:12.07.2025\nJuly\n2025\n9:00am-1:00pm\nCCNA\n2 Months\nCBD Branch\nPhysical\n\n\n12.07.2025\nJuly\n2025\n9:00am-1:00pm\nITIL\n1 Month\nCBD Branch\nPhysical
URL:https://www.iat.ac.ke/class/saturday-only-classes-starting-12-07-2025/
LOCATION:Nairobi CBD Campus\, Hazina Towers\, 1st Floor\, Monrovia Street\, off Utalii Lane- Next to View Park Towers\, Nairobi\, Kenya
CATEGORIES:Saturday Only Classes
END:VEVENT
BEGIN:VEVENT
DTSTART;TZID=Africa/Nairobi:20250705T090000
DTEND;TZID=Africa/Nairobi:20250705T130000
DTSTAMP:20260421T152112
CREATED:20250704T121341Z
LAST-MODIFIED:20250704T121912Z
UID:10000040-1751706000-1751720400@www.iat.ac.ke
SUMMARY:Saturday Only Classes Starting 05.07.2025
DESCRIPTION:05.07.2025\nJuly\n2025\n9:00am-1:00pm\nCCTV Installation\n2 Months\nCBD Branch\nPhysical\n\n\n05.07.2025\nJuly\n2025\n9:00am-1:00pm\nCompTIA A+\n3 Months\nCBD Branch\nPhysical
URL:https://www.iat.ac.ke/class/saturday-only-classes-starting-05-07-2025/
LOCATION:Nairobi CBD Campus\, Hazina Towers\, 1st Floor\, Monrovia Street\, off Utalii Lane- Next to View Park Towers\, Nairobi\, Kenya
CATEGORIES:Saturday Only Classes
END:VEVENT
BEGIN:VEVENT
DTSTART;TZID=Africa/Nairobi:20250421T083000
DTEND;TZID=Africa/Nairobi:20250421T083000
DTSTAMP:20260421T152112
CREATED:20250402T090955Z
LAST-MODIFIED:20250402T110404Z
UID:10000018-1745224200-1745224200@www.iat.ac.ke
SUMMARY:Saturday Only Classes Starting 21.04.2025
DESCRIPTION:21.04.2025\nApril\n2025\n9:00am-1:00pm\nGraphic Design\n3 Months\nWith 15 minutes breaks\nCBD Branch\nSaturday Only-Physical\n\n\n21.04.2025\nApril\n2025\n9:00am-1:00pm\nMs.Ooutlook\n1 Month\nWith 15 minutes breaks\nCBD Branch\nSaturday Only-Physical\n\n\n21.04.2025\nApril\n2025\n9:00am-1:00pm\nMs.Outlook Teams\n1 Month\nWith 15 minutes breaks\nCBD Branch\nSaturday Only-Physical\n\n\n21.04.2025\nApril\n2025\n9:00am-1:00pm\nInternational Certification in Digital Literacy(ICDL)\n3 Months\nWith 15 minutes breaks\nCBD Branch\nSaturday Only-Physical\n\n\n21.04.2025\nApril\n2025\n9:00am-1:00pm\nAdvanced Excel\n6 Weeks\nWith 15 minutes breaks\nCBD Branch\nSaturday Only-Physical
URL:https://www.iat.ac.ke/class/saturday-only-classes-starting-21-04-2025/
LOCATION:Nairobi CBD Campus\, Hazina Towers\, 1st Floor\, Monrovia Street\, off Utalii Lane- Next to View Park Towers\, Nairobi\, Kenya
CATEGORIES:Saturday Only Classes
END:VEVENT
BEGIN:VEVENT
DTSTART;TZID=Africa/Nairobi:20250414T083000
DTEND;TZID=Africa/Nairobi:20250414T083000
DTSTAMP:20260421T152112
CREATED:20250402T090923Z
LAST-MODIFIED:20250402T110407Z
UID:10000019-1744619400-1744619400@www.iat.ac.ke
SUMMARY:Saturday Only Classes Starting 14.04.2025
DESCRIPTION:14.04.2025\nApril\n2025\n9:00am-1:00pm\nCompTIA A+\n1.5 Months\nWith 15 minutes breaks\nCBD Branch\nSaturday Only-Physical\n\n\n14.04.2025\nApril\n2025\n9:00am-1:00pm\nPython-Level I\n1 Month\nWith 15 minutes breaks\nCBD Branch\nSaturday Only-Physical\n\n\n14.04.2025\nApril\n2025\n5:30-7:30PM\nHuman Resource Information System(HRIS) Course\n1.5 Months\nWith 15 minutes breaks\nCBD Branch\nSaturday Only-Physical\n\n\n14.04.2025\nApril\n2025\n9:00am-1:00pm\nCisco Certified Network Professional(CCNP)\n2.5 Months\nWith 15 minutes breaks\nCBD Branch\nSaturday Only-Physical\n\n\n14.04.2025\nApril\n2025\n9:00am-1:00pm\nWeb Design-Level I\n1 Month\nWith 15 minutes breaks\nCBD Branch\nSaturday Only-Physical\n\n\n14.04.2025\nApril\n2025\n9:00am-1:00pm\nSoftware Engineering-Level I\n3 Months\nWith 15 minutes breaks\nCBD Branch\nSaturday Only-Physical\n\n\n14.04.2025\nApril\n2025\n9:00am-1:00pm\nAdvanced Excel\n3 Weeks\nWith 15 minutes breaks\nCBD Branch\nSaturday Only-Physical\n\n\n14.04.2025\nApril\n2025\n9:00am-1:00pm\nQuickBooks Accounting Software\n1 Month\nWith 15 minutes breaks\nCBD Branch\nSaturday Only-Physical\n\n\n14.04.2025\nApril\n2025\n9:00am-1:00pm\nDigital Marketing\n1.5 Months\nWith 15 minutes breaks\nCBD Branch\nSaturday Only-Physical
URL:https://www.iat.ac.ke/class/saturday-only-classes-starting-14-04-2025/
LOCATION:Nairobi CBD Campus\, Hazina Towers\, 1st Floor\, Monrovia Street\, off Utalii Lane- Next to View Park Towers\, Nairobi\, Kenya
CATEGORIES:Saturday Only Classes
END:VEVENT
BEGIN:VEVENT
DTSTART;TZID=Africa/Nairobi:20250407T083000
DTEND;TZID=Africa/Nairobi:20250407T083000
DTSTAMP:20260421T152112
CREATED:20250402T090836Z
LAST-MODIFIED:20250402T110411Z
UID:10000020-1744014600-1744014600@www.iat.ac.ke
SUMMARY:Saturday Only Classes Starting 07.04.2025
DESCRIPTION:07.04.2025\nApril\n2025\n9:00am-1:00pm\nCisco Certified Network Associate(CCNA)\n3 Months\nWith 15 minutes breaks\nCBD Branch\nSaturday Only-Physical\n\n\n07.04.2025\nApril\n2025\n9:00am-1:00pm\nAdvanced Excel\n1 Month\nWith 15 minutes breaks\nCBD Branch\nSaturday Only-Physical\n\n\n07.04.2025\nApril\n2025\n9:00am-1:00pm\nCompTIA N+\n1 Month\nWith 15 minutes breaks\nCBD Branch\nSaturday Only-Physical\n\n\n07.04.2025\nApril\n2025\n9:00am-1:00pm\nCompTIA S+\n1 Month\nWith 15 minutes breaks\nCBD Branch\nSaturday Only-Physical\n\n\n07.04.2025\nApril\n2025\n9:00am-1:00pm\nCyber Security\n1 Month\nWith 15 minutes breaks\nCBD Branch\nSaturday Only-Physical\n\n\n07.04.2025\nApril\n2025\n9:00am-1:00pm\nHuman Resource Information System(HRIS) Course\n1.5 Months\nWith 15 minutes breaks\nCBD Branch\nSaturday Only-Physical\n\n\n07.04.2025\nApril\n2025\n9:00am-1:00pm\nInternational Certificate in Digital Literacy(ICDL)\n3 Months\nWith 15 minutes breaks\nCBD Branch\nSaturday Only-Physical\n\n\n07.04.2025\nApril\n2025\n9:00am-1:00pm\nCertified Ethical Hacking(CEH)\n1 Month\nWith 15 minutes breaks\nCBD Branch\nSaturday Only-Physical\n\n\n07.04.2025\nApril\n2025\n9:00am-1:00pm\nCertificate in Web Design\n3 Months\nWith 15 minutes breaks\nCBD Branch\nSaturday Only-Physical\n\n\n07.04.2025\nApril\n2025\n9:00am-1:00pm\nFibre Optics\n2 Months\nWith 15 minutes breaks\nCBD Branch\nSaturday Only-Physical\n\n\n07.04.2025\nApril\n2025\n9:00am-1:00pm\nCertificate in CCTv Camera Installation\n2 Months\nWith 15 minutes breaks\nCBD Branch\nSaturday Only-Physical\n\n\n07.04.2025\nApril\n2025\n9:00am-1:00pm\nOracle SQL Fundamentals & Database Administrator\n2 Months\nWith 15 minutes breaks\nCBD Branch\nSaturday Only-Physical\n\n\n07.04.2025\nApril\n2025\n9:00am-1:00pm\nData Science-Level I\n6 Weeks\nWith 15 minutes breaks\nCBD Branch\nSaturday Only-Physical
URL:https://www.iat.ac.ke/class/saturday-only-classes-starting-07-04-2025/
LOCATION:Nairobi CBD Campus\, Hazina Towers\, 1st Floor\, Monrovia Street\, off Utalii Lane- Next to View Park Towers\, Nairobi\, Kenya
CATEGORIES:Saturday Only Classes
END:VEVENT
END:VCALENDAR