BEGIN:VCALENDAR
VERSION:2.0
PRODID:-//Institute of Advanced Technology (IAT) - ECPv6.11.0.1//NONSGML v1.0//EN
CALSCALE:GREGORIAN
METHOD:PUBLISH
X-ORIGINAL-URL:https://www.iat.ac.ke
X-WR-CALDESC:Events for Institute of Advanced Technology (IAT)
REFRESH-INTERVAL;VALUE=DURATION:PT1H
X-Robots-Tag:noindex
X-PUBLISHED-TTL:PT1H
BEGIN:VTIMEZONE
TZID:Africa/Nairobi
BEGIN:STANDARD
TZOFFSETFROM:+0300
TZOFFSETTO:+0300
TZNAME:EAT
DTSTART:20260101T000000
END:STANDARD
END:VTIMEZONE
BEGIN:VEVENT
DTSTART;TZID=Africa/Nairobi:20260216T173000
DTEND;TZID=Africa/Nairobi:20260216T173000
DTSTAMP:20260421T215118
CREATED:20260209T102201Z
LAST-MODIFIED:20260209T102201Z
UID:10000085-1771263000-1771263000@www.iat.ac.ke
SUMMARY:Online Classes Starting 16.02.2026
DESCRIPTION:16/02/2026\nFebruary\n2026\n10:30am-12:30pm\nICDL\n3 months\n\n\n16/02/2026\nFebruary\n2026\n5:30-7:30pm\nAdvanced Excel\n3 weeks\n\n\n16/02/2026\nFebruary\n2026\n5:30-7:30pm\nSPSS\n3 Weeks\n\n\n16/02/2026\nFebruary\n2026\n5:30-7:30pm\nProject Management Professional(PMP)\n1 Month\n\n\n16/02/2026\nFebruary\n2026\n5:30-7:30pm\nITIL Foundation\n2 Weeks
URL:https://www.iat.ac.ke/class/online-classes-starting-16-02-2026/
CATEGORIES:Online Classes-All Branches
END:VEVENT
END:VCALENDAR