BEGIN:VCALENDAR
VERSION:2.0
PRODID:-//Institute of Advanced Technology (IAT) - ECPv6.11.0.1//NONSGML v1.0//EN
CALSCALE:GREGORIAN
METHOD:PUBLISH
X-WR-CALNAME:Institute of Advanced Technology (IAT)
X-ORIGINAL-URL:https://www.iat.ac.ke
X-WR-CALDESC:Events for Institute of Advanced Technology (IAT)
REFRESH-INTERVAL;VALUE=DURATION:PT1H
X-Robots-Tag:noindex
X-PUBLISHED-TTL:PT1H
BEGIN:VTIMEZONE
TZID:Africa/Nairobi
BEGIN:STANDARD
TZOFFSETFROM:+0300
TZOFFSETTO:+0300
TZNAME:EAT
DTSTART:20260101T000000
END:STANDARD
END:VTIMEZONE
BEGIN:VEVENT
DTSTART;TZID=Africa/Nairobi:20260126T173000
DTEND;TZID=Africa/Nairobi:20260126T173000
DTSTAMP:20260422T021543
CREATED:20260116T115825Z
LAST-MODIFIED:20260116T115825Z
UID:10000074-1769448600-1769448600@www.iat.ac.ke
SUMMARY:Online Classes Starting 26.01.2026
DESCRIPTION:26/01/2026\nJanuary\n2026\n12:30-2:30pm\nICDL\n3 Months\n\n\n26/01/2026\nJanuary\n2026\n5:30-7:30pm\nSPSS\n3 Weeks\n\n\n26/01/2026\nJanuary\n2026\n2:30-4:30pm\nCertificate in Computer Programming(CCP)\n2 Months\n\n\n26/01/2026\nJanuary\n2026\n5:30-7:30pm\nExcel to Power Bi\n1.5 Months\n\n\n26/01/2026\nJanuary\n2026\n2:30-4:30pm\nCCTV Installation\n2 Months\n\n\n26/01/2026\nJanuary\n2026\n5:30-7:30pm\nCyber Security\n1 Month\n\n\n26/01/2026\nJanuary\n2026\n5:30-7:30pm\nArchiCAD\n3 Weeks\n\n\n26/01/2026\nJanuary\n2026\n5:30-7:30pm\nAutoCAD\n3 Weeks
URL:https://www.iat.ac.ke/class/online-classes-starting-26-01-2026/
CATEGORIES:Online Classes-All Branches
END:VEVENT
END:VCALENDAR