BEGIN:VCALENDAR
VERSION:2.0
PRODID:-//Institute of Advanced Technology (IAT) - ECPv6.11.0.1//NONSGML v1.0//EN
CALSCALE:GREGORIAN
METHOD:PUBLISH
X-ORIGINAL-URL:https://www.iat.ac.ke
X-WR-CALDESC:Events for Institute of Advanced Technology (IAT)
REFRESH-INTERVAL;VALUE=DURATION:PT1H
X-Robots-Tag:noindex
X-PUBLISHED-TTL:PT1H
BEGIN:VTIMEZONE
TZID:Africa/Nairobi
BEGIN:STANDARD
TZOFFSETFROM:+0300
TZOFFSETTO:+0300
TZNAME:EAT
DTSTART:20260101T000000
END:STANDARD
END:VTIMEZONE
BEGIN:VEVENT
DTSTART;TZID=Africa/Nairobi:20260119T173000
DTEND;TZID=Africa/Nairobi:20260119T173000
DTSTAMP:20260422T034745
CREATED:20260116T113638Z
LAST-MODIFIED:20260116T113638Z
UID:10000073-1768843800-1768843800@www.iat.ac.ke
SUMMARY:Online Classes Starting 19.01.2026
DESCRIPTION:19/01/2026\nJanuary\n2026\n10:30-12:30am\nICDL\n3 Months\n\n\n19/01/2026\nJanuary\n2026\n5:30-7:30pm\nAdvanced Excel\n3 Weeks\n\n\n19/01/2026\nJanuary\n2026\n5:30-7:30pm\nSPSS\n3 Weeks\n\n\n19/01/2026\nJanuary\n2026\n5:30-7:30pm\nProject Management Proffessional(PMP)\n1 Month\n\n\n19/01/2026\nJanuary\n2026\n5:30-7:30pm\nCertificate in Computer Programming(CCP)\n3 Months\n\n\n19/01/2026\nJanuary\n2026\n5:30-7:30pm\nITIL\n2 Weeks
URL:https://www.iat.ac.ke/class/online-classes-starting-19-01-2026-2/
CATEGORIES:Online Classes-All Branches
END:VEVENT
END:VCALENDAR