BEGIN:VCALENDAR
VERSION:2.0
PRODID:-//Institute of Advanced Technology (IAT) - ECPv6.11.0.1//NONSGML v1.0//EN
CALSCALE:GREGORIAN
METHOD:PUBLISH
X-WR-CALNAME:Institute of Advanced Technology (IAT)
X-ORIGINAL-URL:https://www.iat.ac.ke
X-WR-CALDESC:Events for Institute of Advanced Technology (IAT)
REFRESH-INTERVAL;VALUE=DURATION:PT1H
X-Robots-Tag:noindex
X-PUBLISHED-TTL:PT1H
BEGIN:VTIMEZONE
TZID:Africa/Nairobi
BEGIN:STANDARD
TZOFFSETFROM:+0300
TZOFFSETTO:+0300
TZNAME:EAT
DTSTART:20250101T000000
END:STANDARD
END:VTIMEZONE
BEGIN:VEVENT
DTSTART;TZID=Africa/Nairobi:20250714T173000
DTEND;TZID=Africa/Nairobi:20250714T173000
DTSTAMP:20260425T172444
CREATED:20250704T090152Z
LAST-MODIFIED:20250704T124408Z
UID:10000034-1752514200-1752514200@www.iat.ac.ke
SUMMARY:Online Classes Starting 14.07.2025
DESCRIPTION:14.07.2025\nJuly\n2025\n5:30-7:30pm\nAdvanced Excel\n3 Weeks\nOnline
URL:https://www.iat.ac.ke/class/online-classes-starting-14-07-2025/
CATEGORIES:Online Classes-All Branches
END:VEVENT
BEGIN:VEVENT
DTSTART;TZID=Africa/Nairobi:20250717T173000
DTEND;TZID=Africa/Nairobi:20250717T173000
DTSTAMP:20260425T172444
CREATED:20250704T091024Z
LAST-MODIFIED:20250704T091024Z
UID:10000035-1752773400-1752773400@www.iat.ac.ke
SUMMARY:Online Classes Starting 17.07.2025
DESCRIPTION:17.07.2025\nJuly\n2025\n5:30-7:30pm\nQuickbooks\n3 Weeks\nOnline
URL:https://www.iat.ac.ke/class/online-classes-starting-17-07-2025/
CATEGORIES:Online Classes-All Branches
END:VEVENT
END:VCALENDAR