BEGIN:VCALENDAR
VERSION:2.0
PRODID:-//Institute of Advanced Technology (IAT) - ECPv6.11.0.1//NONSGML v1.0//EN
CALSCALE:GREGORIAN
METHOD:PUBLISH
X-ORIGINAL-URL:https://www.iat.ac.ke
X-WR-CALDESC:Events for Institute of Advanced Technology (IAT)
REFRESH-INTERVAL;VALUE=DURATION:PT1H
X-Robots-Tag:noindex
X-PUBLISHED-TTL:PT1H
BEGIN:VTIMEZONE
TZID:Africa/Nairobi
BEGIN:STANDARD
TZOFFSETFROM:+0300
TZOFFSETTO:+0300
TZNAME:EAT
DTSTART:20260101T000000
END:STANDARD
END:VTIMEZONE
BEGIN:VEVENT
DTSTART;TZID=Africa/Nairobi:20260323T173000
DTEND;TZID=Africa/Nairobi:20260323T173000
DTSTAMP:20260421T132706
CREATED:20260223T090942Z
LAST-MODIFIED:20260223T090942Z
UID:10000099-1774287000-1774287000@www.iat.ac.ke
SUMMARY:Online Classes Starting 23.03.2026
DESCRIPTION:23/03/2026\nMarch\n2026\n12:30-2:30pm\nICDL\n3 Months\nOnline\n\n\n23/03/2026\nMarch\n2026\n2:30PM-4:30pm\nCertificate in Computer Programming(CCP)\n3 Months\nOnline\n\n\n23/03/2026\nMarch\n2026\n5:30-7:30pm\nSPSS\n3 weeks\nOnline\n\n\n23/03/2026\nMarch\n2026\n5:30-7:30pm\nExcel to Power BI\n1.5 Months\nOnline\n\n\n23/03/2026\nMarch\n2026\n5:30-7:30pm\nCyberSecurity\n1 month\nOnline\n\n\n23/03/2026\nMarch\n2026\n5:30-7:30pm\nCCTV Technology\n2 Months\nOnline\n\n\n23/03/2026\nMarch\n2026\n5:30-7:30pm\nArchiCAD\n3 Weeks\nOnline\n\n\n23/03/2026\nMarch\n2026\n5:30-7:30pm\nAutoCAD\n3 Weeks\nOnline
URL:https://www.iat.ac.ke/class/online-classes-starting-23-03-2026/
CATEGORIES:Online Classes-All Branches
END:VEVENT
END:VCALENDAR